BEGIN:VCALENDAR
VERSION:2.0
PRODID:-//KLONDIKE INSTITUTE OF ART &amp; CULTURE - ECPv6.15.18//NONSGML v1.0//EN
CALSCALE:GREGORIAN
METHOD:PUBLISH
X-WR-CALNAME:KLONDIKE INSTITUTE OF ART &amp; CULTURE
X-ORIGINAL-URL:https://kiac.ca
X-WR-CALDESC:Events for KLONDIKE INSTITUTE OF ART &amp; CULTURE
REFRESH-INTERVAL;VALUE=DURATION:PT1H
X-Robots-Tag:noindex
X-PUBLISHED-TTL:PT1H
BEGIN:VTIMEZONE
TZID:America/Whitehorse
BEGIN:STANDARD
TZOFFSETFROM:-0700
TZOFFSETTO:-0700
TZNAME:MST
DTSTART:20250101T000000
END:STANDARD
END:VTIMEZONE
BEGIN:VEVENT
DTSTART;TZID=America/Whitehorse:20260420T180000
DTEND;TZID=America/Whitehorse:20260420T210000
DTSTAMP:20260420T162348
CREATED:20250325T210625Z
LAST-MODIFIED:20260123T223433Z
UID:10026473-1776708000-1776718800@kiac.ca
SUMMARY:Hand-Building Pottery Drop-In
DESCRIPTION:Handbuilding Pottery Drop-In: Mondays\, 6:30-9pm\nSelf-guided group studio time for those who have some knowledge and experience with pottery. Newcomers are welcome\, though little instruction is provided. A volunteer is available to answer questions. \nClay available for purchase (cash only) at $5/quarter-bag\, $15/half-bag or $30/full bag. \n902 2nd Ave (at Princess St.) Please use the back door for classroom access.
URL:https://kiac.ca/calendar-of-events/hand-building-pottery-drop-in-3-2/2026-04-20/
LOCATION:Klondike Institute of Art & Culture (KIAC)\, 902 2nd Avenue\, Dawson City
CATEGORIES:Workshops & Drop-Ins
ATTACH;FMTTYPE=image/png:https://kiac.ca/wp-content/uploads/2025/03/202526-Pottery-Posters.png
END:VEVENT
BEGIN:VEVENT
DTSTART;TZID=America/Whitehorse:20260423T153000
DTEND;TZID=America/Whitehorse:20260423T170000
DTSTAMP:20260420T162348
CREATED:20260313T194303Z
LAST-MODIFIED:20260403T192049Z
UID:10027209-1776958200-1776963600@kiac.ca
SUMMARY:Art Club at RSS
DESCRIPTION:KIAC will be hosting an Art Club at RSS every thursday from 3:30 – 5pm for the rest of the school year for grades 5-12! \nWe will be making all kinds of things including sets and props for the school play! \nSee you on thursday! \n 
URL:https://kiac.ca/calendar-of-events/art-club-at-rss/2026-04-23/
LOCATION:robert service school
CATEGORIES:Workshops & Drop-Ins
ATTACH;FMTTYPE=image/png:https://kiac.ca/wp-content/uploads/2026/03/Screenshot-2026-03-13-at-12.44.09-PM-scaled.png
END:VEVENT
BEGIN:VEVENT
DTSTART;TZID=America/Whitehorse:20260429T193000
DTEND;TZID=America/Whitehorse:20260429T223000
DTSTAMP:20260420T162348
CREATED:20260206T171321Z
LAST-MODIFIED:20260206T171321Z
UID:10027189-1777491000-1777501800@kiac.ca
SUMMARY:Snotty Nose Rez Kids at Dënäkär Zho / Klondike Institute of Art & Culture
DESCRIPTION:Snotty Nose Rez Kids\n\n\n\n\n\n\n\n\nWed\, April 29 at Dënäkär Zho / KIAC Ballroom\nCo-presented with the Dawson City Music Festival & Yukon Arts Centre\n \nDoors open at 7:30 / music at 8:00\nALL AGES / Alcohol-free\nTickets: kiacyukon.square.site \n— \nSnotty Nose Rez Kids tore into the music scene with unmistakeable talent and an unforgettable name. Showing off their lyrical prowess and natural storytelling ability\, Yung Trybez and Young D jumpstarted the band with two back-to-back albums in 2017. Their follow up album\, 2019’s TRAPLINE\, really launched their career with hit “Boujee Natives\,” and multiple awards including their first Juno nomination. \nThe band took their high voltage live show on the road and clocked 100 shows in 6 different countries. Their pandemic album\, LIFE AFTER\, saw greater industry recognition with multiple music magazine cover stories\, and strong streaming platform support including Billboard advertisements in Toronto’s Yonge-Dundas Square\, playlist cover images\, and an Amazon Twitch Channel Takeover. Taking the album on the road\, the band toured 80 shows in support of the album across North America. They received their second Juno nomination and performed during the live broadcast. They were invited by The Toronto Raptors to play a half time show\, and to the Vancouver Canucks to play in-between periods. Their 2022 project\, I’M GOOD\, HBU? elevated their career to new heights\, and saw them receive their fourth Polaris Prize Shortlist\, a win for top music video of the year at the Prism Prize Awards for their Beatles-inspired\, DAMN RIGHT\, and landed them 3 Western Canadian Music Awards\, bringing their tally to 13 wins so far. \nSNRK have gone on to dominate in Hip-Hop music\, most recently achieving their biggest milestone\, signing to Sony Music. SNRK are blazing their own path\, weaving together a musical fabric of hard-hitting lyricism\, revealing stories about the struggles they and their people have encountered\, empowering protest songs for the front lines\, and a humor that keeps even the heaviest of topics something you can vibe to. \n– \nMeet & Greet Package add-on \nIncludes: \n– Meet and Greet/Photo opportunity with Snotty Nose Rez Kids\n– Drawstring Bag\n– Sticker Pack\n– Hat\n– Early access to venue\n– Early access to shop merchandise \n\n— \nThank you to our funders: Canada Council for the Arts\, Government of Canada\, and Yukon Government. \nThank you to our local sponsor: Northern Vision Development / the Downtown Hotel
URL:https://kiac.ca/calendar-of-events/snotty-nose-rez-kids-at-denakar-zho-klondike-institute-of-art-culture/
LOCATION:Klondike Institute of Art & Culture (KIAC)\, 902 2nd Avenue\, Dawson City
CATEGORIES:Performing Arts
ATTACH;FMTTYPE=image/jpeg:https://kiac.ca/wp-content/uploads/2026/02/SNRK-JUNO-380.jpg
END:VEVENT
END:VCALENDAR