BEGIN:VCALENDAR
VERSION:2.0
PRODID:-//KLONDIKE INSTITUTE OF ART &amp; CULTURE - ECPv6.15.18//NONSGML v1.0//EN
CALSCALE:GREGORIAN
METHOD:PUBLISH
X-WR-CALNAME:KLONDIKE INSTITUTE OF ART &amp; CULTURE
X-ORIGINAL-URL:https://kiac.ca
X-WR-CALDESC:Events for KLONDIKE INSTITUTE OF ART &amp; CULTURE
REFRESH-INTERVAL;VALUE=DURATION:PT1H
X-Robots-Tag:noindex
X-PUBLISHED-TTL:PT1H
BEGIN:VTIMEZONE
TZID:America/Whitehorse
BEGIN:STANDARD
TZOFFSETFROM:-0700
TZOFFSETTO:-0700
TZNAME:MST
DTSTART:20280101T000000
END:STANDARD
END:VTIMEZONE
BEGIN:VEVENT
DTSTART;TZID=America/Whitehorse:20290101T180000
DTEND;TZID=America/Whitehorse:20290101T210000
DTSTAMP:20260421T190254
CREATED:20250325T210625Z
LAST-MODIFIED:20260123T223433Z
UID:10026614-1861984800-1861995600@kiac.ca
SUMMARY:Hand-Building Pottery Drop-In
DESCRIPTION:Handbuilding Pottery Drop-In: Mondays\, 6:30-9pm\nSelf-guided group studio time for those who have some knowledge and experience with pottery. Newcomers are welcome\, though little instruction is provided. A volunteer is available to answer questions. \nClay available for purchase (cash only) at $5/quarter-bag\, $15/half-bag or $30/full bag. \n902 2nd Ave (at Princess St.) Please use the back door for classroom access.
URL:https://kiac.ca/calendar-of-events/hand-building-pottery-drop-in-3-2/2029-01-01/
LOCATION:Klondike Institute of Art & Culture (KIAC)\, 902 2nd Avenue\, Dawson City
CATEGORIES:Workshops & Drop-Ins
ATTACH;FMTTYPE=image/png:https://kiac.ca/wp-content/uploads/2025/03/202526-Pottery-Posters.png
END:VEVENT
BEGIN:VEVENT
DTSTART;TZID=America/Whitehorse:20290108T180000
DTEND;TZID=America/Whitehorse:20290108T210000
DTSTAMP:20260421T190254
CREATED:20250325T210625Z
LAST-MODIFIED:20260123T223433Z
UID:10026615-1862589600-1862600400@kiac.ca
SUMMARY:Hand-Building Pottery Drop-In
DESCRIPTION:Handbuilding Pottery Drop-In: Mondays\, 6:30-9pm\nSelf-guided group studio time for those who have some knowledge and experience with pottery. Newcomers are welcome\, though little instruction is provided. A volunteer is available to answer questions. \nClay available for purchase (cash only) at $5/quarter-bag\, $15/half-bag or $30/full bag. \n902 2nd Ave (at Princess St.) Please use the back door for classroom access.
URL:https://kiac.ca/calendar-of-events/hand-building-pottery-drop-in-3-2/2029-01-08/
LOCATION:Klondike Institute of Art & Culture (KIAC)\, 902 2nd Avenue\, Dawson City
CATEGORIES:Workshops & Drop-Ins
ATTACH;FMTTYPE=image/png:https://kiac.ca/wp-content/uploads/2025/03/202526-Pottery-Posters.png
END:VEVENT
BEGIN:VEVENT
DTSTART;TZID=America/Whitehorse:20290115T180000
DTEND;TZID=America/Whitehorse:20290115T210000
DTSTAMP:20260421T190254
CREATED:20250325T210625Z
LAST-MODIFIED:20260123T223433Z
UID:10026616-1863194400-1863205200@kiac.ca
SUMMARY:Hand-Building Pottery Drop-In
DESCRIPTION:Handbuilding Pottery Drop-In: Mondays\, 6:30-9pm\nSelf-guided group studio time for those who have some knowledge and experience with pottery. Newcomers are welcome\, though little instruction is provided. A volunteer is available to answer questions. \nClay available for purchase (cash only) at $5/quarter-bag\, $15/half-bag or $30/full bag. \n902 2nd Ave (at Princess St.) Please use the back door for classroom access.
URL:https://kiac.ca/calendar-of-events/hand-building-pottery-drop-in-3-2/2029-01-15/
LOCATION:Klondike Institute of Art & Culture (KIAC)\, 902 2nd Avenue\, Dawson City
CATEGORIES:Workshops & Drop-Ins
ATTACH;FMTTYPE=image/png:https://kiac.ca/wp-content/uploads/2025/03/202526-Pottery-Posters.png
END:VEVENT
BEGIN:VEVENT
DTSTART;TZID=America/Whitehorse:20290122T180000
DTEND;TZID=America/Whitehorse:20290122T210000
DTSTAMP:20260421T190254
CREATED:20250325T210625Z
LAST-MODIFIED:20260123T223433Z
UID:10026617-1863799200-1863810000@kiac.ca
SUMMARY:Hand-Building Pottery Drop-In
DESCRIPTION:Handbuilding Pottery Drop-In: Mondays\, 6:30-9pm\nSelf-guided group studio time for those who have some knowledge and experience with pottery. Newcomers are welcome\, though little instruction is provided. A volunteer is available to answer questions. \nClay available for purchase (cash only) at $5/quarter-bag\, $15/half-bag or $30/full bag. \n902 2nd Ave (at Princess St.) Please use the back door for classroom access.
URL:https://kiac.ca/calendar-of-events/hand-building-pottery-drop-in-3-2/2029-01-22/
LOCATION:Klondike Institute of Art & Culture (KIAC)\, 902 2nd Avenue\, Dawson City
CATEGORIES:Workshops & Drop-Ins
ATTACH;FMTTYPE=image/png:https://kiac.ca/wp-content/uploads/2025/03/202526-Pottery-Posters.png
END:VEVENT
BEGIN:VEVENT
DTSTART;TZID=America/Whitehorse:20290129T180000
DTEND;TZID=America/Whitehorse:20290129T210000
DTSTAMP:20260421T190254
CREATED:20250325T210625Z
LAST-MODIFIED:20260123T223433Z
UID:10026618-1864404000-1864414800@kiac.ca
SUMMARY:Hand-Building Pottery Drop-In
DESCRIPTION:Handbuilding Pottery Drop-In: Mondays\, 6:30-9pm\nSelf-guided group studio time for those who have some knowledge and experience with pottery. Newcomers are welcome\, though little instruction is provided. A volunteer is available to answer questions. \nClay available for purchase (cash only) at $5/quarter-bag\, $15/half-bag or $30/full bag. \n902 2nd Ave (at Princess St.) Please use the back door for classroom access.
URL:https://kiac.ca/calendar-of-events/hand-building-pottery-drop-in-3-2/2029-01-29/
LOCATION:Klondike Institute of Art & Culture (KIAC)\, 902 2nd Avenue\, Dawson City
CATEGORIES:Workshops & Drop-Ins
ATTACH;FMTTYPE=image/png:https://kiac.ca/wp-content/uploads/2025/03/202526-Pottery-Posters.png
END:VEVENT
END:VCALENDAR