BEGIN:VCALENDAR
VERSION:2.0
PRODID:-//KLONDIKE INSTITUTE OF ART &amp; CULTURE - ECPv6.15.18//NONSGML v1.0//EN
CALSCALE:GREGORIAN
METHOD:PUBLISH
X-WR-CALNAME:KLONDIKE INSTITUTE OF ART &amp; CULTURE
X-ORIGINAL-URL:https://kiac.ca
X-WR-CALDESC:Events for KLONDIKE INSTITUTE OF ART &amp; CULTURE
REFRESH-INTERVAL;VALUE=DURATION:PT1H
X-Robots-Tag:noindex
X-PUBLISHED-TTL:PT1H
BEGIN:VTIMEZONE
TZID:America/Whitehorse
BEGIN:STANDARD
TZOFFSETFROM:-0700
TZOFFSETTO:-0700
TZNAME:MST
DTSTART:20230101T000000
END:STANDARD
END:VTIMEZONE
BEGIN:VEVENT
DTSTART;TZID=America/Whitehorse:20241212T180000
DTEND;TZID=America/Whitehorse:20241212T200000
DTSTAMP:20260422T185801
CREATED:20240927T180715Z
LAST-MODIFIED:20241210T223414Z
UID:10025441-1734026400-1734033600@kiac.ca
SUMMARY:Drawlidays V
DESCRIPTION:IT’S BAAAAAAACK \nOriginally created by Aubyn O’Grady and now organized by KIAC\, Drawlidays V is a secret santa portrait exchange. By way of drawing names\, you’ll be assigned someone in Dawson to *secretly*  make a portrait of by Friday\, December 6th.  At the same time somebody will be secretly making a portrait of you. You will have one month to produce your portrait! \nThe Drawlidays event has been donated to KIAC as a fundraiser! When you sign up\, you’re not only committing to producing a portrait\, but also to making a donation to KIAC on behalf of the person you are drawing. Suggested Drawlidays donation is $5 – $25.  \nOn the eve of Thursday\, December 12th portraits will be hung and on display in the ODD Gallery.  Portraits are for keepsies\, and this year we’d like to keep them on display for ONE WEEK ONLY. This means on December 20th\, 2024\, you’ll walk away with a new rendering of yourself to hang proudly above your mantle.  \n  \nRULES \nPortraits in this game are typically limited to the second dimension: so\, flat (ish)\, drawings\, paintings\, collages\, on paper\, etc. \nDrawlidays V is limited to those of us in Dawson. We cannot accept portraits by mail! If you are leaving town before December 6th you must ensure your portrait has been delivered. There is no bigger bummer than not finding your portrait among the others.  \n  \nDONATE HERE: https://square.link/u/VzVbbjJp \nDRAW TAKES PLACE: Tuesday\, November 5th  \nARTISTS NOTIFIED OF PORTRAIT SUBJECT: Tuesday\, November 5th \nDEADLINE FOR PORTRAIT DROP OFF: Friday\, December 6th @ 2pm  \nPORTRAIT REVEAL EXHIBITION OPENING: Evening of Thursday\, December 12th\, ODD Gallery open until December 20th \nLIMITED TO 100 people \nHappy Drawlidays\, Ya’ll!
URL:https://kiac.ca/calendar-of-events/drawlidays-v/
LOCATION:ODD Gallery
CATEGORIES:Exhibitions
ATTACH;FMTTYPE=image/jpeg:https://kiac.ca/wp-content/uploads/2024/09/DRAW-LI-DAYS-2_Page_1-scaled.jpg
END:VEVENT
END:VCALENDAR