BEGIN:VCALENDAR
VERSION:2.0
PRODID:-//KLONDIKE INSTITUTE OF ART &amp; CULTURE - ECPv6.15.18//NONSGML v1.0//EN
CALSCALE:GREGORIAN
METHOD:PUBLISH
X-ORIGINAL-URL:https://kiac.ca
X-WR-CALDESC:Events for KLONDIKE INSTITUTE OF ART &amp; CULTURE
REFRESH-INTERVAL;VALUE=DURATION:PT1H
X-Robots-Tag:noindex
X-PUBLISHED-TTL:PT1H
BEGIN:VTIMEZONE
TZID:America/Whitehorse
BEGIN:STANDARD
TZOFFSETFROM:-0700
TZOFFSETTO:-0700
TZNAME:MST
DTSTART:20240101T000000
END:STANDARD
END:VTIMEZONE
BEGIN:VEVENT
DTSTART;TZID=America/Whitehorse:20250829T080000
DTEND;TZID=America/Whitehorse:20250829T170000
DTSTAMP:20260420T182600
CREATED:20250813T184924Z
LAST-MODIFIED:20250813T201223Z
UID:10026799-1756454400-1756486800@kiac.ca
SUMMARY:Dawson Film Lab: September 14-28: Apply now!
DESCRIPTION:Work on FILM this fall at KIAC\nOver the past few years\, the DCISFF has been running the Dawson Film Lab project. This has involved filmmakers (local and non-local) coming to Dawson City to experiment and work on media projects to enhance their craft. \nThe focus has gravitated toward analogue film processes (8mm and 16mm)\, and most recently involved the usage of eco-safe developers using local plants and/or caffeine. This year we are adding cameraless filmmaking\, scratch or paint directly on 16 or 35mm film. \nAn exclusive opportunity to work in Super 8 or 16mm film in a workshop environment from September 14-28 at the Klondike Institute of Art and Culture. \n\nThere will be 2 mandatory get-togethers: one at the beginning and one at the end of the workshop.\nParticipants can work at thier own pace (and times) and will have access to the KIAC Darkroom/Ballroom during the dates of the workshop (September 14-28).\n\nThis is a free workshop with limited space. Applicants must apply. For more info and application form go here \nNote: Applicants from outside Dawson City may do this workshop in a more compressed time frame. \nDeadline to apply is August 29. \nOpen to all levels of artists.\nThis project is funded by the Canada Council for the Arts. \n 
URL:https://kiac.ca/calendar-of-events/dawson-film-lab-september-14-28-apply-now/
LOCATION:Klondike Institute of Art & Culture (KIAC)\, 902 2nd Avenue\, Dawson City
CATEGORIES:Film
ATTACH;FMTTYPE=image/jpeg:https://kiac.ca/wp-content/uploads/2025/08/fillab25_banner.jpg
END:VEVENT
END:VCALENDAR