BEGIN:VCALENDAR
VERSION:2.0
PRODID:-//KLONDIKE INSTITUTE OF ART &amp; CULTURE - ECPv6.15.18//NONSGML v1.0//EN
CALSCALE:GREGORIAN
METHOD:PUBLISH
X-WR-CALNAME:KLONDIKE INSTITUTE OF ART &amp; CULTURE
X-ORIGINAL-URL:https://kiac.ca
X-WR-CALDESC:Events for KLONDIKE INSTITUTE OF ART &amp; CULTURE
REFRESH-INTERVAL;VALUE=DURATION:PT1H
X-Robots-Tag:noindex
X-PUBLISHED-TTL:PT1H
BEGIN:VTIMEZONE
TZID:America/Whitehorse
BEGIN:STANDARD
TZOFFSETFROM:-0700
TZOFFSETTO:-0700
TZNAME:MST
DTSTART:20240101T000000
END:STANDARD
END:VTIMEZONE
BEGIN:VEVENT
DTSTART;TZID=America/Whitehorse:20251028T170000
DTEND;TZID=America/Whitehorse:20251028T210000
DTSTAMP:20260420T180919
CREATED:20251022T232348Z
LAST-MODIFIED:20251023T005705Z
UID:10027073-1761670800-1761685200@kiac.ca
SUMMARY:(s)hiver Arts Society OPEN STUDIO
DESCRIPTION:Join Whitehorse artist Gorellaume in completing his (s)hiver mural\n📍 ODD Gallery\, Dënäkär Zho🗓️ Tuesday\, October 28th\, 5pm – 9pm🎨 Free & open to all \nHelp bring the mural for (s)hiver to life! \nWhitehorse-based artist Gorellaume invites the Dawson community to join him in painting and completing his mural installation inside the ODD Gallery. This participatory session is an opportunity to connect\, collaborate\, and contribute to the evolving artwork. \nAll materials are provided\, and no experience is necessary – just come ready to paint\, play\, and be part of the creative process.
URL:https://kiac.ca/calendar-of-events/shiver-arts-society-open-studio/
LOCATION:ODD Gallery
CATEGORIES:Community Engagement,Workshops & Drop-Ins
END:VEVENT
END:VCALENDAR