BEGIN:VCALENDAR
VERSION:2.0
PRODID:-//KLONDIKE INSTITUTE OF ART &amp; CULTURE - ECPv6.15.18//NONSGML v1.0//EN
CALSCALE:GREGORIAN
METHOD:PUBLISH
X-WR-CALNAME:KLONDIKE INSTITUTE OF ART &amp; CULTURE
X-ORIGINAL-URL:https://kiac.ca
X-WR-CALDESC:Events for KLONDIKE INSTITUTE OF ART &amp; CULTURE
REFRESH-INTERVAL;VALUE=DURATION:PT1H
X-Robots-Tag:noindex
X-PUBLISHED-TTL:PT1H
BEGIN:VTIMEZONE
TZID:America/Whitehorse
BEGIN:STANDARD
TZOFFSETFROM:-0700
TZOFFSETTO:-0700
TZNAME:MST
DTSTART:20240101T000000
END:STANDARD
END:VTIMEZONE
BEGIN:VEVENT
DTSTART;VALUE=DATE:20250213
DTEND;VALUE=DATE:20250414
DTSTAMP:20260419T173634
CREATED:20250219T174500Z
LAST-MODIFIED:20250305T183627Z
UID:10026397-1739412000-1744509599@kiac.ca
SUMMARY:TROPICANA Exhibition - FREE Private Tours!
DESCRIPTION:JUAN ORTIZ-APUY  |  TROPICANA February 13 – April 12\, 2025 ODD Gallery\, Dënäkär Zho |  KIAC Tr’ondëk Hwëch’in territory\, Dawson City\, Yukon \n\n\n\n\n\nTROPICANA\n\n\n\nA GENUINE FORAY INTO THE WORLD OF OBJECTS\, THE YOUTH EXHIBITION TROPICANA SEEKS TO EXAMINE THE WAY WE CONSUME TODAY THE BETTER TO UNDERSTAND ITS FUTURE IMPACTS. \n\n\n\nWhen confronting the environmental crisis\, in which unbridled production of goods is threatening the diversity of the natural world\, it’s essential that we take an interest in how things are displayed\, commercialized and consumed\, whether in brick-and-mortar store windows or online. This youth exhibition\, specially designed for kids and teenagers aged 6 to 14\, casts a critical eye on modern consumer society and advertising aimed at children\, which often features animals\, colours\, sounds and shapes designed to appeal to them. For the occasion\, Montreal-based Costa Rican artist Juan Ortiz-Apuy has created a visual and sound environment allowing visitors to explore the language of advertising and its ability to act on us\, in sometimes unexpected ways. The artist based his research on new marketing strategies that have emerged in the social media era\, i.e.\, the phenomenon of “unboxing” and ASMR (Autonomous Sensory Meridian Response) videos. Besides a guided tour\, children can take part in a workshop designed to awaken their senses\, creativity and critical thinking. Observation games to be completed with family members round out the experience. \nTo learn more about the artist – GO HERE \n  \n\n\n\nFREE Private Tour Booking\n\n\n\nThe ODD Gallery is excited to offer pre-scheduled 45-minute or 90-minute tours of TROPICANA to any interested schools\, daycares\, youth centres\, elders centres\, families or professional organizations interested in directed education on how stealth-marketing incentives all of us to buy. Please use the form below to book your private tour today! \nHours of availability: Tuesday – Friday\, start at 9am – ending at 6pm \nTours are unavailable from March 7 – 17th\, but will restart March 18th \nContact Jessica via email gallery@kiac.ca or 993-5005 if you have any questions. \nODD Gallery Tropicana Educational ToursPlease enable JavaScript in your browser to complete this form.		\n			Time Name Range\n			\n		\n		Name *FirstLastPhone *Email *Date / Time *DateTimePlease let us know what day and time you'd like your 90 minute tour to begin so we can ensure we book it into our schedule.\n\nTours can be booked from 10am - 6pm Monday - Friday. \n\nThe final day to book a tour is April 11th\, 2025.Age Range of Visitors (choose all that apply in your group) *0 - 5 Years Old6 - 8 Years Old9 - 11 Years Old12 - 14 Years Old15 - 18 Years Old18+65+Informing us of the ages of attendees helps us better prepare materials for your visit.Comment or MessageSubmit   \n\n\n\n\n\nCrédit pour la tournée de Juan : \n\n\n\nLa circulation de Tropicana bénéficie du soutien financier du Conseil des arts du Canada et du Conseil des arts et des lettres du Québec. Cette exposition a été produite en 2020 par VOX\, centre de l’image contemporaine grâce au soutien financier du Conseil des arts et des lettres du Québec. \n\n\n\nCredits for Juan tour: \n\n\n\nThe Tropicana’s tour benefits from the financial support of the Canada Council for the Arts and the Conseil des arts et des lettres du Québec. This exhibition was produced in 2020 by VOX\, centre de l’image contemporaine with financial support from the Conseil des arts et des lettres du Québec.   \n\n\n\n\n\n.  . 
URL:https://kiac.ca/calendar-of-events/juan-ortiz-apuy-tropicana/
LOCATION:Klondike Institute of Art & Culture (KIAC)\, 902 2nd Avenue\, Dawson City
CATEGORIES:Community Engagement,Exhibitions,Kids & Youth,Workshops & Drop-Ins
ATTACH;FMTTYPE=image/png:https://kiac.ca/wp-content/uploads/2025/02/Private-Tour-Booking.png
END:VEVENT
BEGIN:VEVENT
DTSTART;TZID=America/Whitehorse:20250401T170000
DTEND;TZID=America/Whitehorse:20250401T190000
DTSTAMP:20260419T173634
CREATED:20250325T194250Z
LAST-MODIFIED:20250325T194355Z
UID:10026411-1743526800-1743534000@kiac.ca
SUMMARY:April Fool!  Film Fest fundraiser at Bombay Peggy's
DESCRIPTION:April 1\, 5-7pm!\nPurveyor of Popcorn Dan Sokolowski will be bartending at Bombay Peggy’s!\nAll tips will go to the Dawson City International Short Film Festival! \nCome on out\, have a cocktail and support the filmfest! A Happy Hour to end all Happy Hours!
URL:https://kiac.ca/calendar-of-events/april-fool-film-fest-fundraiser-at-bombay-peggys/
LOCATION:Bombay Peggy’s\, Dawson City\, YT\, Y0B 1G0\, Canada
CATEGORIES:Film,Fundraiser
ATTACH;FMTTYPE=image/png:https://kiac.ca/wp-content/uploads/2025/03/fool_banner.png
END:VEVENT
BEGIN:VEVENT
DTSTART;VALUE=DATE:20250417
DTEND;VALUE=DATE:20250422
DTSTAMP:20260419T173634
CREATED:20250409T162517Z
LAST-MODIFIED:20250409T162518Z
UID:10026734-1744855200-1745200799@kiac.ca
SUMMARY:26th Dawson City International Short Film Festival
DESCRIPTION:Its Film Fest time!\nThe 26th Dawson City Film Fest is coming up (April 17-20).  Start planning your weekend! \nWant to get an early start? Sign up for our pre-festival workshop. SCRATCH IT OUT! is a hands on cameraless filmmaking experience with renowned filmmaker Steven Woloshen. Starting on Tuesday April 15\, you can create you own film by drawing\, scratching and painting directly onto 35mm film. There are 3 sessions (April 15\, 15 and 18) and you can attend 1\, 2 or all 3!  It’s free.  To sign up email filmfest@kiac.ca. \nThe festival starts Thursday April 17th with a special showing of the film OLD CROW: A PHILOSOPHY. Directors Erika Tizaya-Tramm and Daniel Janke will be in attendance. \nThe weekend is full of films\, installations\, projections\, and our now famous Perogie Street Feast\, with food and live music out on Princess street on the Sunday afternoon. \nPasses available at KIAC\, online or at the door.\nIndividual screening tickets available at the door (cash or credit).\nPlease arrive early. \nCheck out all the action on our website! \n \nThanks to all our funders and supporters!\nYukon Government\, Canada Council for the Arts\, Telefilm Canada\, Heritage Canada\, NorthwesTel Community TV\, Yukon Energy\, Klondike Visitors Association\, Newmont Coffee\, Schmidt Mining\, Air North\, Yukon Brewing\, Reel Canada\, Red Mammoth Bistro\, Bombay Peggy’s\, NVD Hotels\, Parks Canada\, SPYA\, Yukon Film Society\, Dänojà Zho Cultural Centre\, Yukon School of Visual Arts\, NFB\, City of Dawson\, Gold Rush\, Eldo Enns\, Dawson City General Store\, johnsteins.com\, Arctic Star Printing\, Bonanza Market\, Lulu Keating\, Evan Rensch Appreciation Society\, Yukon Spa\, Yukon Birch Syrup. \nWe are humbled to hold our festival on the traditional territory of the Tr’ondëk Hwëch’in.
URL:https://kiac.ca/calendar-of-events/26th-dawson-city-international-short-film-festival/
LOCATION:Klondike Institute of Art & Culture (KIAC)\, 902 2nd Avenue\, Dawson City
CATEGORIES:Artist in Residence,Community Engagement,Exhibitions,Film
ATTACH;FMTTYPE=image/png:https://kiac.ca/wp-content/uploads/2025/04/filmfest_banner.png
END:VEVENT
END:VCALENDAR