BEGIN:VCALENDAR
VERSION:2.0
PRODID:-//KLONDIKE INSTITUTE OF ART &amp; CULTURE - ECPv6.15.18//NONSGML v1.0//EN
CALSCALE:GREGORIAN
METHOD:PUBLISH
X-WR-CALNAME:KLONDIKE INSTITUTE OF ART &amp; CULTURE
X-ORIGINAL-URL:https://kiac.ca
X-WR-CALDESC:Events for KLONDIKE INSTITUTE OF ART &amp; CULTURE
REFRESH-INTERVAL;VALUE=DURATION:PT1H
X-Robots-Tag:noindex
X-PUBLISHED-TTL:PT1H
BEGIN:VTIMEZONE
TZID:America/Whitehorse
BEGIN:STANDARD
TZOFFSETFROM:-0700
TZOFFSETTO:-0700
TZNAME:MST
DTSTART:20230101T000000
END:STANDARD
END:VTIMEZONE
BEGIN:VEVENT
DTSTART;TZID=America/Whitehorse:20241210T080000
DTEND;TZID=America/Whitehorse:20241219T170000
DTSTAMP:20260419T081423
CREATED:20241210T225431Z
LAST-MODIFIED:20241211T232942Z
UID:10025952-1733817600-1734627600@kiac.ca
SUMMARY:ODD Gallery MEMBER'S ACCESS: January 2025 RESERVATIONS
DESCRIPTION:Reserve Your Member’s Access Spot for Early to mid-January\n\n\n\nThe ODD Gallery is now accepting bookings from KIAC members. (New members always welcome!) \nJanuary 3 – 21\, 2025This could be an opportunity to photo-document your work\, to workshop an installation\, or work on a project. The Gallery Members’ Access time is for private use\, but small public events may be possible on a case-by-case basis (ie. small presentation\, conversation\, or viewing open to peers / public). Let us know what you’d like to do on this form! \nProposed activities should be self-sufficient and independent of KIAC staff. \n\nBookings are first-come\, first-served (pending approval)\nSpace can be reserved for up to 7 days at a time (including evenings and weekends) \nApproved dates may be shorter than requested depending on interest / scheduling\nDEADLINE for bookings: December 19th\, 2024 at NOON Yukon Time\n\nPlease fill out this form to make a booking\nNot sure if your project fits? Give us a call or send us an email. \nPlease contact Jessica Svenningson in the gallery to discuss ideas and availability. \n993 5005 or gallery@kiac.ca
URL:https://kiac.ca/calendar-of-events/odd-gallery-members-access-january-2025-reservations/
LOCATION:ODD Gallery
CATEGORIES:Community Engagement
ATTACH;FMTTYPE=image/png:https://kiac.ca/wp-content/uploads/2024/12/Members-Access-2025.png
END:VEVENT
END:VCALENDAR