BEGIN:VCALENDAR
VERSION:2.0
PRODID:-//KLONDIKE INSTITUTE OF ART &amp; CULTURE - ECPv6.15.18//NONSGML v1.0//EN
CALSCALE:GREGORIAN
METHOD:PUBLISH
X-ORIGINAL-URL:https://kiac.ca
X-WR-CALDESC:Events for KLONDIKE INSTITUTE OF ART &amp; CULTURE
REFRESH-INTERVAL;VALUE=DURATION:PT1H
X-Robots-Tag:noindex
X-PUBLISHED-TTL:PT1H
BEGIN:VTIMEZONE
TZID:America/Whitehorse
BEGIN:STANDARD
TZOFFSETFROM:-0700
TZOFFSETTO:-0700
TZNAME:MST
DTSTART:20240101T000000
END:STANDARD
END:VTIMEZONE
BEGIN:VEVENT
DTSTART;TZID=America/Whitehorse:20250602T180000
DTEND;TZID=America/Whitehorse:20250602T210000
DTSTAMP:20260420T134005
CREATED:20250325T210625Z
LAST-MODIFIED:20260123T223433Z
UID:10026427-1748887200-1748898000@kiac.ca
SUMMARY:Hand-Building Pottery Drop-In
DESCRIPTION:Handbuilding Pottery Drop-In: Mondays\, 6:30-9pm\nSelf-guided group studio time for those who have some knowledge and experience with pottery. Newcomers are welcome\, though little instruction is provided. A volunteer is available to answer questions. \nClay available for purchase (cash only) at $5/quarter-bag\, $15/half-bag or $30/full bag. \n902 2nd Ave (at Princess St.) Please use the back door for classroom access.
URL:https://kiac.ca/calendar-of-events/hand-building-pottery-drop-in-3-2/2025-06-02/
LOCATION:Klondike Institute of Art & Culture (KIAC)\, 902 2nd Avenue\, Dawson City
CATEGORIES:Workshops & Drop-Ins
ATTACH;FMTTYPE=image/png:https://kiac.ca/wp-content/uploads/2025/03/202526-Pottery-Posters.png
END:VEVENT
BEGIN:VEVENT
DTSTART;TZID=America/Whitehorse:20250603T180000
DTEND;TZID=America/Whitehorse:20250603T200000
DTSTAMP:20260420T134005
CREATED:20241107T180333Z
LAST-MODIFIED:20250207T215233Z
UID:10025557-1748973600-1748980800@kiac.ca
SUMMARY:Hoht’rey ëde’ą Concert Band Drop-In
DESCRIPTION:Tuesdays\, 6 – 8 p.m\, KIAC Ballroom\n*some cancellations may occur\, please check out the weekly newsletter for updates. \nConcert Band drop-in will be re-located on Tuesdays from Feb. 11 to March 4\, and April 8-15 to RSS. \nFor rehearsal details on those nights\, please contact Teresa at teresa.conkin@gmail.com \n  \nThis weekly two-hour conducted music session is geared towards those who can (or used to) play a woodwind or brass instrument at a low intermediate level and higher\, i.e at least able to play a scale. \nWe will be practicing several concert pieces each week. Those who haven’t played their instrument in years\, or decades even\, but were experienced in the past are more than welcome!\nPlease contact Teresa Conkin  if you are unsure about your level of experience and if this program is right for you: teresa.conkin@gmail.com \nInstruments are not provided but may be available to rent.\nAges 16 & up. \n 
URL:https://kiac.ca/calendar-of-events/hohtrey-edea-concert-band-drop-in/2025-06-03/
LOCATION:Klondike Institute of Art & Culture (KIAC)\, 902 2nd Avenue\, Dawson City
CATEGORIES:Workshops & Drop-Ins
ATTACH;FMTTYPE=image/jpeg:https://kiac.ca/wp-content/uploads/2024/11/concert-band.jpg
END:VEVENT
BEGIN:VEVENT
DTSTART;TZID=America/Whitehorse:20250609T180000
DTEND;TZID=America/Whitehorse:20250609T210000
DTSTAMP:20260420T134005
CREATED:20250325T210625Z
LAST-MODIFIED:20260123T223433Z
UID:10026428-1749492000-1749502800@kiac.ca
SUMMARY:Hand-Building Pottery Drop-In
DESCRIPTION:Handbuilding Pottery Drop-In: Mondays\, 6:30-9pm\nSelf-guided group studio time for those who have some knowledge and experience with pottery. Newcomers are welcome\, though little instruction is provided. A volunteer is available to answer questions. \nClay available for purchase (cash only) at $5/quarter-bag\, $15/half-bag or $30/full bag. \n902 2nd Ave (at Princess St.) Please use the back door for classroom access.
URL:https://kiac.ca/calendar-of-events/hand-building-pottery-drop-in-3-2/2025-06-09/
LOCATION:Klondike Institute of Art & Culture (KIAC)\, 902 2nd Avenue\, Dawson City
CATEGORIES:Workshops & Drop-Ins
ATTACH;FMTTYPE=image/png:https://kiac.ca/wp-content/uploads/2025/03/202526-Pottery-Posters.png
END:VEVENT
BEGIN:VEVENT
DTSTART;TZID=America/Whitehorse:20250610T180000
DTEND;TZID=America/Whitehorse:20250610T200000
DTSTAMP:20260420T134005
CREATED:20241107T180333Z
LAST-MODIFIED:20250207T215233Z
UID:10025558-1749578400-1749585600@kiac.ca
SUMMARY:Hoht’rey ëde’ą Concert Band Drop-In
DESCRIPTION:Tuesdays\, 6 – 8 p.m\, KIAC Ballroom\n*some cancellations may occur\, please check out the weekly newsletter for updates. \nConcert Band drop-in will be re-located on Tuesdays from Feb. 11 to March 4\, and April 8-15 to RSS. \nFor rehearsal details on those nights\, please contact Teresa at teresa.conkin@gmail.com \n  \nThis weekly two-hour conducted music session is geared towards those who can (or used to) play a woodwind or brass instrument at a low intermediate level and higher\, i.e at least able to play a scale. \nWe will be practicing several concert pieces each week. Those who haven’t played their instrument in years\, or decades even\, but were experienced in the past are more than welcome!\nPlease contact Teresa Conkin  if you are unsure about your level of experience and if this program is right for you: teresa.conkin@gmail.com \nInstruments are not provided but may be available to rent.\nAges 16 & up. \n 
URL:https://kiac.ca/calendar-of-events/hohtrey-edea-concert-band-drop-in/2025-06-10/
LOCATION:Klondike Institute of Art & Culture (KIAC)\, 902 2nd Avenue\, Dawson City
CATEGORIES:Workshops & Drop-Ins
ATTACH;FMTTYPE=image/jpeg:https://kiac.ca/wp-content/uploads/2024/11/concert-band.jpg
END:VEVENT
BEGIN:VEVENT
DTSTART;TZID=America/Whitehorse:20250613T140000
DTEND;TZID=America/Whitehorse:20250613T170000
DTSTAMP:20260420T134005
CREATED:20250607T031049Z
LAST-MODIFIED:20250607T031049Z
UID:10026756-1749823200-1749834000@kiac.ca
SUMMARY:Quillwork on Birch Workshop by Faye Chamberlain
DESCRIPTION:Quillwork on Birch Workshop by Faye Chamberlain \nFriday June 13\, 2-5pm at Dënäkär Zho/KIAC Classroom \nOnly ten spots available!\nFree to register / $20 for materials (bring cash) \nThe embellishment of birchbark with porcupine quills is one of the most unique and beautiful art forms native to North America. Join Faye Chamberlain and create your own special piece of art with gifts from the land. \nEmail programs@kiac.ca to sign up! \nPresented as part of the Yukon Riverside Arts Festival.
URL:https://kiac.ca/calendar-of-events/quillwork-on-birch-workshop-by-faye-chamberlain/
LOCATION:Klondike Institute of Art & Culture (KIAC)\, 902 2nd Avenue\, Dawson City
CATEGORIES:Workshops & Drop-Ins
ATTACH;FMTTYPE=image/png:https://kiac.ca/wp-content/uploads/2025/06/Quillwork.png
END:VEVENT
BEGIN:VEVENT
DTSTART;TZID=America/Whitehorse:20250613T150000
DTEND;TZID=America/Whitehorse:20250613T170000
DTSTAMP:20260420T134005
CREATED:20250607T031831Z
LAST-MODIFIED:20250607T031831Z
UID:10026757-1749826800-1749834000@kiac.ca
SUMMARY:Youth Hip Hop Workshop with John From Dawson and Nitpik
DESCRIPTION:Youth Hip Hop Workshop with John From Dawson and Nitpik \nFriday\, June 13th 3pm to 5pm at K’äjit-in Zho Youth Centre \nFor Youth ages 15 to 25. Free! \nContact Youth Centre to register:\nEmail: thomas.hodgkinson@trondek.ca \nPhone: 867 993 6495 \nPresented as part of the Yukon Riverside Arts Festival
URL:https://kiac.ca/calendar-of-events/youth-hip-hop-workshop-with-john-from-dawson-and-nitpik/
LOCATION:K’äjit-in Zho Youth Centre\, Second Ave.\, Dawson CIty\, Yukon\, Y0B1G0\, Canada
CATEGORIES:Kids & Youth,Workshops & Drop-Ins
ATTACH;FMTTYPE=image/png:https://kiac.ca/wp-content/uploads/2025/06/Hip-Hop-Workshop-Instagram-Post.png
END:VEVENT
BEGIN:VEVENT
DTSTART;TZID=America/Whitehorse:20250614T110000
DTEND;TZID=America/Whitehorse:20250614T150000
DTSTAMP:20260420T134005
CREATED:20250605T175401Z
LAST-MODIFIED:20250605T175401Z
UID:10026755-1749898800-1749913200@kiac.ca
SUMMARY:From Rags to Rug: Community Loom Demonstration
DESCRIPTION:As part of Weaving the Midnight Sun and the Yukon Riverside Arts Festival\, textile artist Janice Brodie invites the public into the process of community weaving. \nUsing scraps\, old linens\, and fabric donated by Dawson locals and drawn from her own stash\, Janice will spend the day weaving a communal rug on a floor loom in the ODD Gallery. This is a celebration of reuse\, resilience\, and the stories we share through cloth. \nVisitors are welcome to stop in\, ask questions\, contribute material\, or even try weaving a few rows. Whether you participate for a moment or an hour\, your presence becomes part of the finished piece — a rug woven by many hands\, for many to enjoy. \nAll ages and experience levels are welcome!
URL:https://kiac.ca/calendar-of-events/from-rags-to-rug-community-loom-demonstration/
LOCATION:ODD Gallery
CATEGORIES:Community Engagement,Exhibitions,Workshops & Drop-Ins
ATTACH;FMTTYPE=image/png:https://kiac.ca/wp-content/uploads/2025/06/Rag-Rug-demo-FB-Post.png
END:VEVENT
BEGIN:VEVENT
DTSTART;TZID=America/Whitehorse:20250616T180000
DTEND;TZID=America/Whitehorse:20250616T210000
DTSTAMP:20260420T134005
CREATED:20250325T210625Z
LAST-MODIFIED:20260123T223433Z
UID:10026429-1750096800-1750107600@kiac.ca
SUMMARY:Hand-Building Pottery Drop-In
DESCRIPTION:Handbuilding Pottery Drop-In: Mondays\, 6:30-9pm\nSelf-guided group studio time for those who have some knowledge and experience with pottery. Newcomers are welcome\, though little instruction is provided. A volunteer is available to answer questions. \nClay available for purchase (cash only) at $5/quarter-bag\, $15/half-bag or $30/full bag. \n902 2nd Ave (at Princess St.) Please use the back door for classroom access.
URL:https://kiac.ca/calendar-of-events/hand-building-pottery-drop-in-3-2/2025-06-16/
LOCATION:Klondike Institute of Art & Culture (KIAC)\, 902 2nd Avenue\, Dawson City
CATEGORIES:Workshops & Drop-Ins
ATTACH;FMTTYPE=image/png:https://kiac.ca/wp-content/uploads/2025/03/202526-Pottery-Posters.png
END:VEVENT
BEGIN:VEVENT
DTSTART;TZID=America/Whitehorse:20250617T180000
DTEND;TZID=America/Whitehorse:20250617T200000
DTSTAMP:20260420T134005
CREATED:20241107T180333Z
LAST-MODIFIED:20250207T215233Z
UID:10025559-1750183200-1750190400@kiac.ca
SUMMARY:Hoht’rey ëde’ą Concert Band Drop-In
DESCRIPTION:Tuesdays\, 6 – 8 p.m\, KIAC Ballroom\n*some cancellations may occur\, please check out the weekly newsletter for updates. \nConcert Band drop-in will be re-located on Tuesdays from Feb. 11 to March 4\, and April 8-15 to RSS. \nFor rehearsal details on those nights\, please contact Teresa at teresa.conkin@gmail.com \n  \nThis weekly two-hour conducted music session is geared towards those who can (or used to) play a woodwind or brass instrument at a low intermediate level and higher\, i.e at least able to play a scale. \nWe will be practicing several concert pieces each week. Those who haven’t played their instrument in years\, or decades even\, but were experienced in the past are more than welcome!\nPlease contact Teresa Conkin  if you are unsure about your level of experience and if this program is right for you: teresa.conkin@gmail.com \nInstruments are not provided but may be available to rent.\nAges 16 & up. \n 
URL:https://kiac.ca/calendar-of-events/hohtrey-edea-concert-band-drop-in/2025-06-17/
LOCATION:Klondike Institute of Art & Culture (KIAC)\, 902 2nd Avenue\, Dawson City
CATEGORIES:Workshops & Drop-Ins
ATTACH;FMTTYPE=image/jpeg:https://kiac.ca/wp-content/uploads/2024/11/concert-band.jpg
END:VEVENT
BEGIN:VEVENT
DTSTART;TZID=America/Whitehorse:20250623T180000
DTEND;TZID=America/Whitehorse:20250623T210000
DTSTAMP:20260420T134005
CREATED:20250325T210625Z
LAST-MODIFIED:20260123T223433Z
UID:10026430-1750701600-1750712400@kiac.ca
SUMMARY:Hand-Building Pottery Drop-In
DESCRIPTION:Handbuilding Pottery Drop-In: Mondays\, 6:30-9pm\nSelf-guided group studio time for those who have some knowledge and experience with pottery. Newcomers are welcome\, though little instruction is provided. A volunteer is available to answer questions. \nClay available for purchase (cash only) at $5/quarter-bag\, $15/half-bag or $30/full bag. \n902 2nd Ave (at Princess St.) Please use the back door for classroom access.
URL:https://kiac.ca/calendar-of-events/hand-building-pottery-drop-in-3-2/2025-06-23/
LOCATION:Klondike Institute of Art & Culture (KIAC)\, 902 2nd Avenue\, Dawson City
CATEGORIES:Workshops & Drop-Ins
ATTACH;FMTTYPE=image/png:https://kiac.ca/wp-content/uploads/2025/03/202526-Pottery-Posters.png
END:VEVENT
BEGIN:VEVENT
DTSTART;TZID=America/Whitehorse:20250624T180000
DTEND;TZID=America/Whitehorse:20250624T200000
DTSTAMP:20260420T134005
CREATED:20250618T165330Z
LAST-MODIFIED:20250618T165330Z
UID:10025560-1750788000-1750795200@kiac.ca
SUMMARY:Hoht’rey ëde’ą Concert Band Drop-In
DESCRIPTION:Tuesdays\, 6 – 8 p.m\, KIAC Ballroom\n*some cancellations may occur\, please check out the weekly newsletter for updates. \nConcert Band drop-in will be taking a break from June 17th to July 8th. \nFor rehearsal details on those nights\, please contact Teresa at teresa.conkin@gmail.com \nThis weekly two-hour conducted music session is geared towards those who can (or used to) play a woodwind or brass instrument at a low intermediate level and higher\, i.e at least able to play a scale. \nWe will be practicing several concert pieces each week. Those who haven’t played their instrument in years\, or decades even\, but were experienced in the past are more than welcome!\nPlease contact Teresa Conkin  if you are unsure about your level of experience and if this program is right for you: teresa.conkin@gmail.com \nInstruments are not provided but may be available to rent.\nAges 16 & up. \n 
URL:https://kiac.ca/calendar-of-events/hohtrey-edea-concert-band-drop-in-2/
LOCATION:Klondike Institute of Art & Culture (KIAC)\, 902 2nd Avenue\, Dawson City
CATEGORIES:Workshops & Drop-Ins
ATTACH;FMTTYPE=image/jpeg:https://kiac.ca/wp-content/uploads/2024/11/concert-band.jpg
END:VEVENT
BEGIN:VEVENT
DTSTART;TZID=America/Whitehorse:20250630T180000
DTEND;TZID=America/Whitehorse:20250630T210000
DTSTAMP:20260420T134005
CREATED:20250325T210625Z
LAST-MODIFIED:20260123T223433Z
UID:10026431-1751306400-1751317200@kiac.ca
SUMMARY:Hand-Building Pottery Drop-In
DESCRIPTION:Handbuilding Pottery Drop-In: Mondays\, 6:30-9pm\nSelf-guided group studio time for those who have some knowledge and experience with pottery. Newcomers are welcome\, though little instruction is provided. A volunteer is available to answer questions. \nClay available for purchase (cash only) at $5/quarter-bag\, $15/half-bag or $30/full bag. \n902 2nd Ave (at Princess St.) Please use the back door for classroom access.
URL:https://kiac.ca/calendar-of-events/hand-building-pottery-drop-in-3-2/2025-06-30/
LOCATION:Klondike Institute of Art & Culture (KIAC)\, 902 2nd Avenue\, Dawson City
CATEGORIES:Workshops & Drop-Ins
ATTACH;FMTTYPE=image/png:https://kiac.ca/wp-content/uploads/2025/03/202526-Pottery-Posters.png
END:VEVENT
END:VCALENDAR