BEGIN:VCALENDAR
VERSION:2.0
PRODID:-//KLONDIKE INSTITUTE OF ART &amp; CULTURE - ECPv6.15.18//NONSGML v1.0//EN
CALSCALE:GREGORIAN
METHOD:PUBLISH
X-ORIGINAL-URL:https://kiac.ca
X-WR-CALDESC:Events for KLONDIKE INSTITUTE OF ART &amp; CULTURE
REFRESH-INTERVAL;VALUE=DURATION:PT1H
X-Robots-Tag:noindex
X-PUBLISHED-TTL:PT1H
BEGIN:VTIMEZONE
TZID:America/Whitehorse
BEGIN:STANDARD
TZOFFSETFROM:-0700
TZOFFSETTO:-0700
TZNAME:MST
DTSTART:20240101T000000
END:STANDARD
END:VTIMEZONE
BEGIN:VEVENT
DTSTART;TZID=America/Whitehorse:20250106T180000
DTEND;TZID=America/Whitehorse:20250106T210000
DTSTAMP:20260420T172104
CREATED:20240104T012140Z
LAST-MODIFIED:20241220T180252Z
UID:10025623-1736186400-1736197200@kiac.ca
SUMMARY:Hand-Building Pottery Drop-In
DESCRIPTION:Handbuilding Pottery Drop-In: Mondays\, 6:30-9pm\nSelf-guided group studio time for those who have some knowledge and experience with pottery. Newcomers are welcome\, though little instruction is provided. A volunteer is available to answer questions. \nClay available for purchase (cash only) at $5/quarter-bag\, $15/half-bag or $30/full bag. \n902 2nd Ave (at Princess St.) Please use the back door for classroom access.
URL:https://kiac.ca/calendar-of-events/hand-building-pottery-drop-in-3/2025-01-06/
LOCATION:Klondike Institute of Art & Culture (KIAC)\, 902 2nd Avenue\, Dawson City
CATEGORIES:Workshops & Drop-Ins
ATTACH;FMTTYPE=image/png:https://kiac.ca/wp-content/uploads/2024/01/3.png
END:VEVENT
BEGIN:VEVENT
DTSTART;TZID=America/Whitehorse:20250107T180000
DTEND;TZID=America/Whitehorse:20250107T200000
DTSTAMP:20260420T172104
CREATED:20241107T180333Z
LAST-MODIFIED:20250207T215233Z
UID:10025536-1736272800-1736280000@kiac.ca
SUMMARY:Hoht’rey ëde’ą Concert Band Drop-In
DESCRIPTION:Tuesdays\, 6 – 8 p.m\, KIAC Ballroom\n*some cancellations may occur\, please check out the weekly newsletter for updates. \nConcert Band drop-in will be re-located on Tuesdays from Feb. 11 to March 4\, and April 8-15 to RSS. \nFor rehearsal details on those nights\, please contact Teresa at teresa.conkin@gmail.com \n  \nThis weekly two-hour conducted music session is geared towards those who can (or used to) play a woodwind or brass instrument at a low intermediate level and higher\, i.e at least able to play a scale. \nWe will be practicing several concert pieces each week. Those who haven’t played their instrument in years\, or decades even\, but were experienced in the past are more than welcome!\nPlease contact Teresa Conkin  if you are unsure about your level of experience and if this program is right for you: teresa.conkin@gmail.com \nInstruments are not provided but may be available to rent.\nAges 16 & up. \n 
URL:https://kiac.ca/calendar-of-events/hohtrey-edea-concert-band-drop-in/2025-01-07/
LOCATION:Klondike Institute of Art & Culture (KIAC)\, 902 2nd Avenue\, Dawson City
CATEGORIES:Workshops & Drop-Ins
ATTACH;FMTTYPE=image/jpeg:https://kiac.ca/wp-content/uploads/2024/11/concert-band.jpg
END:VEVENT
BEGIN:VEVENT
DTSTART;TZID=America/Whitehorse:20250108T180000
DTEND;TZID=America/Whitehorse:20250108T210000
DTSTAMP:20260420T172104
CREATED:20241220T180939Z
LAST-MODIFIED:20241220T180939Z
UID:10026036-1736359200-1736370000@kiac.ca
SUMMARY:Screen Printing Drop-In
DESCRIPTION:Wednesdays\, 6-9 pm \nSelf-guided group studio time for those who have some knowledge and experience with screen printing. A volunteer or staff member will be available to answer questions. Basic materials provided with additional supplies available for purchase. \nDrop-in fee: $10 for KIAC members / $12 for non-members (cash only) \n902 – 2nd Avenue (at Princess Street). Please use the back door for classroom access.
URL:https://kiac.ca/calendar-of-events/screen-printing-drop-in/
LOCATION:Klondike Institute of Art & Culture (KIAC)\, 902 2nd Avenue\, Dawson City
CATEGORIES:Workshops & Drop-Ins
ATTACH;FMTTYPE=image/jpeg:https://kiac.ca/wp-content/uploads/2023/07/screenprinting-dropin-e1689705512213.jpeg
END:VEVENT
BEGIN:VEVENT
DTSTART;TZID=America/Whitehorse:20250113T180000
DTEND;TZID=America/Whitehorse:20250113T210000
DTSTAMP:20260420T172104
CREATED:20240104T012140Z
LAST-MODIFIED:20241220T180252Z
UID:10025624-1736791200-1736802000@kiac.ca
SUMMARY:Hand-Building Pottery Drop-In
DESCRIPTION:Handbuilding Pottery Drop-In: Mondays\, 6:30-9pm\nSelf-guided group studio time for those who have some knowledge and experience with pottery. Newcomers are welcome\, though little instruction is provided. A volunteer is available to answer questions. \nClay available for purchase (cash only) at $5/quarter-bag\, $15/half-bag or $30/full bag. \n902 2nd Ave (at Princess St.) Please use the back door for classroom access.
URL:https://kiac.ca/calendar-of-events/hand-building-pottery-drop-in-3/2025-01-13/
LOCATION:Klondike Institute of Art & Culture (KIAC)\, 902 2nd Avenue\, Dawson City
CATEGORIES:Workshops & Drop-Ins
ATTACH;FMTTYPE=image/png:https://kiac.ca/wp-content/uploads/2024/01/3.png
END:VEVENT
BEGIN:VEVENT
DTSTART;TZID=America/Whitehorse:20250114T180000
DTEND;TZID=America/Whitehorse:20250114T200000
DTSTAMP:20260420T172104
CREATED:20241107T180333Z
LAST-MODIFIED:20250207T215233Z
UID:10025537-1736877600-1736884800@kiac.ca
SUMMARY:Hoht’rey ëde’ą Concert Band Drop-In
DESCRIPTION:Tuesdays\, 6 – 8 p.m\, KIAC Ballroom\n*some cancellations may occur\, please check out the weekly newsletter for updates. \nConcert Band drop-in will be re-located on Tuesdays from Feb. 11 to March 4\, and April 8-15 to RSS. \nFor rehearsal details on those nights\, please contact Teresa at teresa.conkin@gmail.com \n  \nThis weekly two-hour conducted music session is geared towards those who can (or used to) play a woodwind or brass instrument at a low intermediate level and higher\, i.e at least able to play a scale. \nWe will be practicing several concert pieces each week. Those who haven’t played their instrument in years\, or decades even\, but were experienced in the past are more than welcome!\nPlease contact Teresa Conkin  if you are unsure about your level of experience and if this program is right for you: teresa.conkin@gmail.com \nInstruments are not provided but may be available to rent.\nAges 16 & up. \n 
URL:https://kiac.ca/calendar-of-events/hohtrey-edea-concert-band-drop-in/2025-01-14/
LOCATION:Klondike Institute of Art & Culture (KIAC)\, 902 2nd Avenue\, Dawson City
CATEGORIES:Workshops & Drop-Ins
ATTACH;FMTTYPE=image/jpeg:https://kiac.ca/wp-content/uploads/2024/11/concert-band.jpg
END:VEVENT
BEGIN:VEVENT
DTSTART;TZID=America/Whitehorse:20250120T180000
DTEND;TZID=America/Whitehorse:20250120T210000
DTSTAMP:20260420T172104
CREATED:20240104T012140Z
LAST-MODIFIED:20241220T180252Z
UID:10025625-1737396000-1737406800@kiac.ca
SUMMARY:Hand-Building Pottery Drop-In
DESCRIPTION:Handbuilding Pottery Drop-In: Mondays\, 6:30-9pm\nSelf-guided group studio time for those who have some knowledge and experience with pottery. Newcomers are welcome\, though little instruction is provided. A volunteer is available to answer questions. \nClay available for purchase (cash only) at $5/quarter-bag\, $15/half-bag or $30/full bag. \n902 2nd Ave (at Princess St.) Please use the back door for classroom access.
URL:https://kiac.ca/calendar-of-events/hand-building-pottery-drop-in-3/2025-01-20/
LOCATION:Klondike Institute of Art & Culture (KIAC)\, 902 2nd Avenue\, Dawson City
CATEGORIES:Workshops & Drop-Ins
ATTACH;FMTTYPE=image/png:https://kiac.ca/wp-content/uploads/2024/01/3.png
END:VEVENT
BEGIN:VEVENT
DTSTART;TZID=America/Whitehorse:20250121T180000
DTEND;TZID=America/Whitehorse:20250121T200000
DTSTAMP:20260420T172104
CREATED:20241107T180333Z
LAST-MODIFIED:20250207T215233Z
UID:10025538-1737482400-1737489600@kiac.ca
SUMMARY:Hoht’rey ëde’ą Concert Band Drop-In
DESCRIPTION:Tuesdays\, 6 – 8 p.m\, KIAC Ballroom\n*some cancellations may occur\, please check out the weekly newsletter for updates. \nConcert Band drop-in will be re-located on Tuesdays from Feb. 11 to March 4\, and April 8-15 to RSS. \nFor rehearsal details on those nights\, please contact Teresa at teresa.conkin@gmail.com \n  \nThis weekly two-hour conducted music session is geared towards those who can (or used to) play a woodwind or brass instrument at a low intermediate level and higher\, i.e at least able to play a scale. \nWe will be practicing several concert pieces each week. Those who haven’t played their instrument in years\, or decades even\, but were experienced in the past are more than welcome!\nPlease contact Teresa Conkin  if you are unsure about your level of experience and if this program is right for you: teresa.conkin@gmail.com \nInstruments are not provided but may be available to rent.\nAges 16 & up. \n 
URL:https://kiac.ca/calendar-of-events/hohtrey-edea-concert-band-drop-in/2025-01-21/
LOCATION:Klondike Institute of Art & Culture (KIAC)\, 902 2nd Avenue\, Dawson City
CATEGORIES:Workshops & Drop-Ins
ATTACH;FMTTYPE=image/jpeg:https://kiac.ca/wp-content/uploads/2024/11/concert-band.jpg
END:VEVENT
BEGIN:VEVENT
DTSTART;TZID=America/Whitehorse:20250122T173000
DTEND;TZID=America/Whitehorse:20250122T183000
DTSTAMP:20260420T172104
CREATED:20250115T202714Z
LAST-MODIFIED:20250115T210857Z
UID:10026104-1737567000-1737570600@kiac.ca
SUMMARY:Sexy Heels Adult Jazz Dance Class
DESCRIPTION:Description: Sexy Jazz dance classes with Lexie. Heels are optional. No experience required! \nLocation: The KIAC Dënäkär Zho Ballroom\n\nDates: Wednesdays – January 22\, 29\, February 5\nTime: 5:30- 6:30 PM\n\nCost:\n\n\n$50 Non-members\n$45 Members\n$25 Accessible\n\nPlus GST \n*Bring heels if you’d like* \n\nClick here to pay.\n\nTo register\, fill out the form below:\nPlease enable JavaScript in your browser to complete this form.Please complete this form or contact us at 993-5005 or programs@kiac.ca. \nSpaces are limited.  \nStep 1. Fill out registration form \nStep 2. Wait for confirmation email from KIAC staff  \nStep 3. Proceed with payment and fill out program waiver \nFilling out the registration form does not guarantee a spot in the program. \nParticipant Name *FirstLastEmail *Phone *PronounsShe/HerHe/HimThey/ThemOther - Please write down belowComment or MessagePlease indicate any special accommodation requests\, comments\, or questions.Submit  \nFor questions or concerns please contact the Programs Coordinator at programs@kiac.ca or call us at 867 993 5005. \nOur offices are open Tues – Friday\, 9am – 5pm. \n 
URL:https://kiac.ca/calendar-of-events/sexy-heels-adult-jazz-dance-class/2025-01-22/
LOCATION:Klondike Institute of Art & Culture (KIAC)\, 902 2nd Avenue\, Dawson City
CATEGORIES:Workshops & Drop-Ins
ATTACH;FMTTYPE=image/jpeg:https://kiac.ca/wp-content/uploads/2025/01/2-scaled.jpg
END:VEVENT
BEGIN:VEVENT
DTSTART;TZID=America/Whitehorse:20250127T180000
DTEND;TZID=America/Whitehorse:20250127T210000
DTSTAMP:20260420T172104
CREATED:20240104T012140Z
LAST-MODIFIED:20241220T180252Z
UID:10025626-1738000800-1738011600@kiac.ca
SUMMARY:Hand-Building Pottery Drop-In
DESCRIPTION:Handbuilding Pottery Drop-In: Mondays\, 6:30-9pm\nSelf-guided group studio time for those who have some knowledge and experience with pottery. Newcomers are welcome\, though little instruction is provided. A volunteer is available to answer questions. \nClay available for purchase (cash only) at $5/quarter-bag\, $15/half-bag or $30/full bag. \n902 2nd Ave (at Princess St.) Please use the back door for classroom access.
URL:https://kiac.ca/calendar-of-events/hand-building-pottery-drop-in-3/2025-01-27/
LOCATION:Klondike Institute of Art & Culture (KIAC)\, 902 2nd Avenue\, Dawson City
CATEGORIES:Workshops & Drop-Ins
ATTACH;FMTTYPE=image/png:https://kiac.ca/wp-content/uploads/2024/01/3.png
END:VEVENT
BEGIN:VEVENT
DTSTART;TZID=America/Whitehorse:20250128T180000
DTEND;TZID=America/Whitehorse:20250128T200000
DTSTAMP:20260420T172104
CREATED:20241107T180333Z
LAST-MODIFIED:20250207T215233Z
UID:10025539-1738087200-1738094400@kiac.ca
SUMMARY:Hoht’rey ëde’ą Concert Band Drop-In
DESCRIPTION:Tuesdays\, 6 – 8 p.m\, KIAC Ballroom\n*some cancellations may occur\, please check out the weekly newsletter for updates. \nConcert Band drop-in will be re-located on Tuesdays from Feb. 11 to March 4\, and April 8-15 to RSS. \nFor rehearsal details on those nights\, please contact Teresa at teresa.conkin@gmail.com \n  \nThis weekly two-hour conducted music session is geared towards those who can (or used to) play a woodwind or brass instrument at a low intermediate level and higher\, i.e at least able to play a scale. \nWe will be practicing several concert pieces each week. Those who haven’t played their instrument in years\, or decades even\, but were experienced in the past are more than welcome!\nPlease contact Teresa Conkin  if you are unsure about your level of experience and if this program is right for you: teresa.conkin@gmail.com \nInstruments are not provided but may be available to rent.\nAges 16 & up. \n 
URL:https://kiac.ca/calendar-of-events/hohtrey-edea-concert-band-drop-in/2025-01-28/
LOCATION:Klondike Institute of Art & Culture (KIAC)\, 902 2nd Avenue\, Dawson City
CATEGORIES:Workshops & Drop-Ins
ATTACH;FMTTYPE=image/jpeg:https://kiac.ca/wp-content/uploads/2024/11/concert-band.jpg
END:VEVENT
BEGIN:VEVENT
DTSTART;TZID=America/Whitehorse:20250129T173000
DTEND;TZID=America/Whitehorse:20250129T183000
DTSTAMP:20260420T172104
CREATED:20250115T202714Z
LAST-MODIFIED:20250115T210857Z
UID:10026105-1738171800-1738175400@kiac.ca
SUMMARY:Sexy Heels Adult Jazz Dance Class
DESCRIPTION:Description: Sexy Jazz dance classes with Lexie. Heels are optional. No experience required! \nLocation: The KIAC Dënäkär Zho Ballroom\n\nDates: Wednesdays – January 22\, 29\, February 5\nTime: 5:30- 6:30 PM\n\nCost:\n\n\n$50 Non-members\n$45 Members\n$25 Accessible\n\nPlus GST \n*Bring heels if you’d like* \n\nClick here to pay.\n\nTo register\, fill out the form below:\nPlease enable JavaScript in your browser to complete this form.Please complete this form or contact us at 993-5005 or programs@kiac.ca. \nSpaces are limited.  \nStep 1. Fill out registration form \nStep 2. Wait for confirmation email from KIAC staff  \nStep 3. Proceed with payment and fill out program waiver \nFilling out the registration form does not guarantee a spot in the program. \nParticipant Name *FirstLastEmail *Phone *PronounsShe/HerHe/HimThey/ThemOther - Please write down belowComment or MessagePlease indicate any special accommodation requests\, comments\, or questions.Submit  \nFor questions or concerns please contact the Programs Coordinator at programs@kiac.ca or call us at 867 993 5005. \nOur offices are open Tues – Friday\, 9am – 5pm. \n 
URL:https://kiac.ca/calendar-of-events/sexy-heels-adult-jazz-dance-class/2025-01-29/
LOCATION:Klondike Institute of Art & Culture (KIAC)\, 902 2nd Avenue\, Dawson City
CATEGORIES:Workshops & Drop-Ins
ATTACH;FMTTYPE=image/jpeg:https://kiac.ca/wp-content/uploads/2025/01/2-scaled.jpg
END:VEVENT
END:VCALENDAR