BEGIN:VCALENDAR
VERSION:2.0
PRODID:-//KLONDIKE INSTITUTE OF ART &amp; CULTURE - ECPv6.15.18//NONSGML v1.0//EN
CALSCALE:GREGORIAN
METHOD:PUBLISH
X-WR-CALNAME:KLONDIKE INSTITUTE OF ART &amp; CULTURE
X-ORIGINAL-URL:https://kiac.ca
X-WR-CALDESC:Events for KLONDIKE INSTITUTE OF ART &amp; CULTURE
REFRESH-INTERVAL;VALUE=DURATION:PT1H
X-Robots-Tag:noindex
X-PUBLISHED-TTL:PT1H
BEGIN:VTIMEZONE
TZID:America/Whitehorse
BEGIN:STANDARD
TZOFFSETFROM:-0700
TZOFFSETTO:-0700
TZNAME:MST
DTSTART:20230101T000000
END:STANDARD
END:VTIMEZONE
BEGIN:VEVENT
DTSTART;TZID=America/Whitehorse:20241202T180000
DTEND;TZID=America/Whitehorse:20241202T210000
DTSTAMP:20260420T155535
CREATED:20240104T012140Z
LAST-MODIFIED:20241220T180252Z
UID:10025618-1733162400-1733173200@kiac.ca
SUMMARY:Hand-Building Pottery Drop-In
DESCRIPTION:Handbuilding Pottery Drop-In: Mondays\, 6:30-9pm\nSelf-guided group studio time for those who have some knowledge and experience with pottery. Newcomers are welcome\, though little instruction is provided. A volunteer is available to answer questions. \nClay available for purchase (cash only) at $5/quarter-bag\, $15/half-bag or $30/full bag. \n902 2nd Ave (at Princess St.) Please use the back door for classroom access.
URL:https://kiac.ca/calendar-of-events/hand-building-pottery-drop-in-3/2024-12-02/
LOCATION:Klondike Institute of Art & Culture (KIAC)\, 902 2nd Avenue\, Dawson City
CATEGORIES:Workshops & Drop-Ins
ATTACH;FMTTYPE=image/png:https://kiac.ca/wp-content/uploads/2024/01/3.png
END:VEVENT
BEGIN:VEVENT
DTSTART;TZID=America/Whitehorse:20241203T180000
DTEND;TZID=America/Whitehorse:20241203T200000
DTSTAMP:20260420T155535
CREATED:20241107T180333Z
LAST-MODIFIED:20250207T215233Z
UID:10025531-1733248800-1733256000@kiac.ca
SUMMARY:Hoht’rey ëde’ą Concert Band Drop-In
DESCRIPTION:Tuesdays\, 6 – 8 p.m\, KIAC Ballroom\n*some cancellations may occur\, please check out the weekly newsletter for updates. \nConcert Band drop-in will be re-located on Tuesdays from Feb. 11 to March 4\, and April 8-15 to RSS. \nFor rehearsal details on those nights\, please contact Teresa at teresa.conkin@gmail.com \n  \nThis weekly two-hour conducted music session is geared towards those who can (or used to) play a woodwind or brass instrument at a low intermediate level and higher\, i.e at least able to play a scale. \nWe will be practicing several concert pieces each week. Those who haven’t played their instrument in years\, or decades even\, but were experienced in the past are more than welcome!\nPlease contact Teresa Conkin  if you are unsure about your level of experience and if this program is right for you: teresa.conkin@gmail.com \nInstruments are not provided but may be available to rent.\nAges 16 & up. \n 
URL:https://kiac.ca/calendar-of-events/hohtrey-edea-concert-band-drop-in/2024-12-03/
LOCATION:Klondike Institute of Art & Culture (KIAC)\, 902 2nd Avenue\, Dawson City
CATEGORIES:Workshops & Drop-Ins
ATTACH;FMTTYPE=image/jpeg:https://kiac.ca/wp-content/uploads/2024/11/concert-band.jpg
END:VEVENT
BEGIN:VEVENT
DTSTART;TZID=America/Whitehorse:20241204T180000
DTEND;TZID=America/Whitehorse:20241204T210000
DTSTAMP:20260420T155535
CREATED:20240104T011136Z
LAST-MODIFIED:20241220T175259Z
UID:10025105-1733335200-1733346000@kiac.ca
SUMMARY:Screen Printing Drop-In
DESCRIPTION:Wednesdays\, 6-9 pm \nSelf-guided group studio time for those who have some knowledge and experience with screen printing. A volunteer or staff member will be available to answer questions. Basic materials provided with additional supplies available for purchase. \nDrop-in fee: $10 for KIAC members / $12 for non-members (cash only) \n902 – 2nd Avenue (at Princess Street). Please use the back door for classroom access.
URL:https://kiac.ca/calendar-of-events/screen-printing-drop-in-2/2024-12-04/
LOCATION:Klondike Institute of Art & Culture (KIAC)\, 902 2nd Avenue\, Dawson City
CATEGORIES:Workshops & Drop-Ins
ATTACH;FMTTYPE=image/png:https://kiac.ca/wp-content/uploads/2024/01/IMG_1469.png
END:VEVENT
BEGIN:VEVENT
DTSTART;TZID=America/Whitehorse:20241209T180000
DTEND;TZID=America/Whitehorse:20241209T210000
DTSTAMP:20260420T155535
CREATED:20240104T012140Z
LAST-MODIFIED:20241220T180252Z
UID:10025619-1733767200-1733778000@kiac.ca
SUMMARY:Hand-Building Pottery Drop-In
DESCRIPTION:Handbuilding Pottery Drop-In: Mondays\, 6:30-9pm\nSelf-guided group studio time for those who have some knowledge and experience with pottery. Newcomers are welcome\, though little instruction is provided. A volunteer is available to answer questions. \nClay available for purchase (cash only) at $5/quarter-bag\, $15/half-bag or $30/full bag. \n902 2nd Ave (at Princess St.) Please use the back door for classroom access.
URL:https://kiac.ca/calendar-of-events/hand-building-pottery-drop-in-3/2024-12-09/
LOCATION:Klondike Institute of Art & Culture (KIAC)\, 902 2nd Avenue\, Dawson City
CATEGORIES:Workshops & Drop-Ins
ATTACH;FMTTYPE=image/png:https://kiac.ca/wp-content/uploads/2024/01/3.png
END:VEVENT
BEGIN:VEVENT
DTSTART;TZID=America/Whitehorse:20241210T180000
DTEND;TZID=America/Whitehorse:20241210T200000
DTSTAMP:20260420T155535
CREATED:20241107T180333Z
LAST-MODIFIED:20250207T215233Z
UID:10025532-1733853600-1733860800@kiac.ca
SUMMARY:Hoht’rey ëde’ą Concert Band Drop-In
DESCRIPTION:Tuesdays\, 6 – 8 p.m\, KIAC Ballroom\n*some cancellations may occur\, please check out the weekly newsletter for updates. \nConcert Band drop-in will be re-located on Tuesdays from Feb. 11 to March 4\, and April 8-15 to RSS. \nFor rehearsal details on those nights\, please contact Teresa at teresa.conkin@gmail.com \n  \nThis weekly two-hour conducted music session is geared towards those who can (or used to) play a woodwind or brass instrument at a low intermediate level and higher\, i.e at least able to play a scale. \nWe will be practicing several concert pieces each week. Those who haven’t played their instrument in years\, or decades even\, but were experienced in the past are more than welcome!\nPlease contact Teresa Conkin  if you are unsure about your level of experience and if this program is right for you: teresa.conkin@gmail.com \nInstruments are not provided but may be available to rent.\nAges 16 & up. \n 
URL:https://kiac.ca/calendar-of-events/hohtrey-edea-concert-band-drop-in/2024-12-10/
LOCATION:Klondike Institute of Art & Culture (KIAC)\, 902 2nd Avenue\, Dawson City
CATEGORIES:Workshops & Drop-Ins
ATTACH;FMTTYPE=image/jpeg:https://kiac.ca/wp-content/uploads/2024/11/concert-band.jpg
END:VEVENT
BEGIN:VEVENT
DTSTART;TZID=America/Whitehorse:20241211T180000
DTEND;TZID=America/Whitehorse:20241211T210000
DTSTAMP:20260420T155535
CREATED:20240104T011136Z
LAST-MODIFIED:20241220T175259Z
UID:10025106-1733940000-1733950800@kiac.ca
SUMMARY:Screen Printing Drop-In
DESCRIPTION:Wednesdays\, 6-9 pm \nSelf-guided group studio time for those who have some knowledge and experience with screen printing. A volunteer or staff member will be available to answer questions. Basic materials provided with additional supplies available for purchase. \nDrop-in fee: $10 for KIAC members / $12 for non-members (cash only) \n902 – 2nd Avenue (at Princess Street). Please use the back door for classroom access.
URL:https://kiac.ca/calendar-of-events/screen-printing-drop-in-2/2024-12-11/
LOCATION:Klondike Institute of Art & Culture (KIAC)\, 902 2nd Avenue\, Dawson City
CATEGORIES:Workshops & Drop-Ins
ATTACH;FMTTYPE=image/png:https://kiac.ca/wp-content/uploads/2024/01/IMG_1469.png
END:VEVENT
BEGIN:VEVENT
DTSTART;TZID=America/Whitehorse:20241216T180000
DTEND;TZID=America/Whitehorse:20241216T210000
DTSTAMP:20260420T155535
CREATED:20240104T012140Z
LAST-MODIFIED:20241220T180252Z
UID:10025620-1734372000-1734382800@kiac.ca
SUMMARY:Hand-Building Pottery Drop-In
DESCRIPTION:Handbuilding Pottery Drop-In: Mondays\, 6:30-9pm\nSelf-guided group studio time for those who have some knowledge and experience with pottery. Newcomers are welcome\, though little instruction is provided. A volunteer is available to answer questions. \nClay available for purchase (cash only) at $5/quarter-bag\, $15/half-bag or $30/full bag. \n902 2nd Ave (at Princess St.) Please use the back door for classroom access.
URL:https://kiac.ca/calendar-of-events/hand-building-pottery-drop-in-3/2024-12-16/
LOCATION:Klondike Institute of Art & Culture (KIAC)\, 902 2nd Avenue\, Dawson City
CATEGORIES:Workshops & Drop-Ins
ATTACH;FMTTYPE=image/png:https://kiac.ca/wp-content/uploads/2024/01/3.png
END:VEVENT
BEGIN:VEVENT
DTSTART;TZID=America/Whitehorse:20241217T180000
DTEND;TZID=America/Whitehorse:20241217T200000
DTSTAMP:20260420T155535
CREATED:20241107T180333Z
LAST-MODIFIED:20250207T215233Z
UID:10025533-1734458400-1734465600@kiac.ca
SUMMARY:Hoht’rey ëde’ą Concert Band Drop-In
DESCRIPTION:Tuesdays\, 6 – 8 p.m\, KIAC Ballroom\n*some cancellations may occur\, please check out the weekly newsletter for updates. \nConcert Band drop-in will be re-located on Tuesdays from Feb. 11 to March 4\, and April 8-15 to RSS. \nFor rehearsal details on those nights\, please contact Teresa at teresa.conkin@gmail.com \n  \nThis weekly two-hour conducted music session is geared towards those who can (or used to) play a woodwind or brass instrument at a low intermediate level and higher\, i.e at least able to play a scale. \nWe will be practicing several concert pieces each week. Those who haven’t played their instrument in years\, or decades even\, but were experienced in the past are more than welcome!\nPlease contact Teresa Conkin  if you are unsure about your level of experience and if this program is right for you: teresa.conkin@gmail.com \nInstruments are not provided but may be available to rent.\nAges 16 & up. \n 
URL:https://kiac.ca/calendar-of-events/hohtrey-edea-concert-band-drop-in/2024-12-17/
LOCATION:Klondike Institute of Art & Culture (KIAC)\, 902 2nd Avenue\, Dawson City
CATEGORIES:Workshops & Drop-Ins
ATTACH;FMTTYPE=image/jpeg:https://kiac.ca/wp-content/uploads/2024/11/concert-band.jpg
END:VEVENT
BEGIN:VEVENT
DTSTART;TZID=America/Whitehorse:20241218T180000
DTEND;TZID=America/Whitehorse:20241218T210000
DTSTAMP:20260420T155535
CREATED:20240104T011136Z
LAST-MODIFIED:20241220T175259Z
UID:10025107-1734544800-1734555600@kiac.ca
SUMMARY:Screen Printing Drop-In
DESCRIPTION:Wednesdays\, 6-9 pm \nSelf-guided group studio time for those who have some knowledge and experience with screen printing. A volunteer or staff member will be available to answer questions. Basic materials provided with additional supplies available for purchase. \nDrop-in fee: $10 for KIAC members / $12 for non-members (cash only) \n902 – 2nd Avenue (at Princess Street). Please use the back door for classroom access.
URL:https://kiac.ca/calendar-of-events/screen-printing-drop-in-2/2024-12-18/
LOCATION:Klondike Institute of Art & Culture (KIAC)\, 902 2nd Avenue\, Dawson City
CATEGORIES:Workshops & Drop-Ins
ATTACH;FMTTYPE=image/png:https://kiac.ca/wp-content/uploads/2024/01/IMG_1469.png
END:VEVENT
END:VCALENDAR