BEGIN:VCALENDAR
VERSION:2.0
PRODID:-//KLONDIKE INSTITUTE OF ART &amp; CULTURE - ECPv6.15.18//NONSGML v1.0//EN
CALSCALE:GREGORIAN
METHOD:PUBLISH
X-WR-CALNAME:KLONDIKE INSTITUTE OF ART &amp; CULTURE
X-ORIGINAL-URL:https://kiac.ca
X-WR-CALDESC:Events for KLONDIKE INSTITUTE OF ART &amp; CULTURE
REFRESH-INTERVAL;VALUE=DURATION:PT1H
X-Robots-Tag:noindex
X-PUBLISHED-TTL:PT1H
BEGIN:VTIMEZONE
TZID:America/Whitehorse
BEGIN:STANDARD
TZOFFSETFROM:-0700
TZOFFSETTO:-0700
TZNAME:MST
DTSTART:20230101T000000
END:STANDARD
END:VTIMEZONE
BEGIN:VEVENT
DTSTART;TZID=America/Whitehorse:20240807T180000
DTEND;TZID=America/Whitehorse:20240807T210000
DTSTAMP:20260420T080452
CREATED:20240104T011136Z
LAST-MODIFIED:20241220T175259Z
UID:10025088-1723053600-1723064400@kiac.ca
SUMMARY:Screen Printing Drop-In
DESCRIPTION:Wednesdays\, 6-9 pm \nSelf-guided group studio time for those who have some knowledge and experience with screen printing. A volunteer or staff member will be available to answer questions. Basic materials provided with additional supplies available for purchase. \nDrop-in fee: $10 for KIAC members / $12 for non-members (cash only) \n902 – 2nd Avenue (at Princess Street). Please use the back door for classroom access.
URL:https://kiac.ca/calendar-of-events/screen-printing-drop-in-2/2024-08-07/
LOCATION:Klondike Institute of Art & Culture (KIAC)\, 902 2nd Avenue\, Dawson City
CATEGORIES:Workshops & Drop-Ins
ATTACH;FMTTYPE=image/png:https://kiac.ca/wp-content/uploads/2024/01/IMG_1469.png
END:VEVENT
BEGIN:VEVENT
DTSTART;TZID=America/Whitehorse:20240812T130000
DTEND;TZID=America/Whitehorse:20240812T170000
DTSTAMP:20260420T080452
CREATED:20240807T230917Z
LAST-MODIFIED:20240807T230953Z
UID:10025017-1723467600-1723482000@kiac.ca
SUMMARY:Hamilton + g Drop-in Zine Workshop
DESCRIPTION:Monday\, August 12 \n1 – 5 pm \nArtists in Attendance
URL:https://kiac.ca/calendar-of-events/hamilton-g-drop-in-zine-workshop/2024-08-12/
LOCATION:Klondike Institute of Art & Culture (KIAC)\, 902 2nd Avenue\, Dawson City
CATEGORIES:Exhibitions,Workshops & Drop-Ins
ATTACH;FMTTYPE=image/jpeg:https://kiac.ca/wp-content/uploads/2024/08/Hamiltong-Zine-Workshop.jpg
END:VEVENT
BEGIN:VEVENT
DTSTART;TZID=America/Whitehorse:20240813T120000
DTEND;TZID=America/Whitehorse:20240813T150000
DTSTAMP:20260420T080452
CREATED:20240807T230917Z
LAST-MODIFIED:20240807T230953Z
UID:10025018-1723550400-1723561200@kiac.ca
SUMMARY:Hamilton + g Drop-in Zine Workshop
DESCRIPTION:Monday\, August 12 \n1 – 5 pm \nArtists in Attendance
URL:https://kiac.ca/calendar-of-events/hamilton-g-drop-in-zine-workshop/2024-08-13/
LOCATION:Klondike Institute of Art & Culture (KIAC)\, 902 2nd Avenue\, Dawson City
CATEGORIES:Exhibitions,Workshops & Drop-Ins
ATTACH;FMTTYPE=image/jpeg:https://kiac.ca/wp-content/uploads/2024/08/Hamiltong-Zine-Workshop.jpg
END:VEVENT
BEGIN:VEVENT
DTSTART;TZID=America/Whitehorse:20240814T180000
DTEND;TZID=America/Whitehorse:20240814T210000
DTSTAMP:20260420T080452
CREATED:20240104T011136Z
LAST-MODIFIED:20241220T175259Z
UID:10025089-1723658400-1723669200@kiac.ca
SUMMARY:Screen Printing Drop-In
DESCRIPTION:Wednesdays\, 6-9 pm \nSelf-guided group studio time for those who have some knowledge and experience with screen printing. A volunteer or staff member will be available to answer questions. Basic materials provided with additional supplies available for purchase. \nDrop-in fee: $10 for KIAC members / $12 for non-members (cash only) \n902 – 2nd Avenue (at Princess Street). Please use the back door for classroom access.
URL:https://kiac.ca/calendar-of-events/screen-printing-drop-in-2/2024-08-14/
LOCATION:Klondike Institute of Art & Culture (KIAC)\, 902 2nd Avenue\, Dawson City
CATEGORIES:Workshops & Drop-Ins
ATTACH;FMTTYPE=image/png:https://kiac.ca/wp-content/uploads/2024/01/IMG_1469.png
END:VEVENT
BEGIN:VEVENT
DTSTART;TZID=America/Whitehorse:20240815T000000
DTEND;TZID=America/Whitehorse:20240815T233000
DTSTAMP:20260420T080452
CREATED:20240726T173921Z
LAST-MODIFIED:20240731T212658Z
UID:10025006-1723680000-1723764600@kiac.ca
SUMMARY:Dawson Film Lab. Apply by August 15.
DESCRIPTION:Work on FILM this fall at KIAC.\n\nAn exclusive opportunity to work in Super 8 or 16mm film in a workshop environment from September 15-29 at the Klondike Institute of Art and Culture. \nOpen to all levels of artists.  \nParticipants will be given instruction on either Super 8 of 16mm film production using either super 8 cameras or the 16mm Bolex camera and hand processing film using eco-processing techniques.  \nThis workshop is intended to allow media artists a chance to experiment with mediums and processes which may be used in future works. A final product is not required. \nHow to apply \nGo to our website for more info and the application form. \nWe welcome applications by indigenous\, bipoc and lgbtqia2s+ creators. \n 
URL:https://kiac.ca/calendar-of-events/dawson-film-lab-apply-by-august-15/
LOCATION:Klondike Institute of Art & Culture (KIAC)\, 902 2nd Avenue\, Dawson City
CATEGORIES:Film,Workshops & Drop-Ins
ATTACH;FMTTYPE=image/jpeg:https://kiac.ca/wp-content/uploads/2024/07/fillab24_banner.jpg
END:VEVENT
BEGIN:VEVENT
DTSTART;TZID=America/Whitehorse:20240818T130000
DTEND;TZID=America/Whitehorse:20240818T150000
DTSTAMP:20260420T080452
CREATED:20240808T212152Z
LAST-MODIFIED:20240815T220336Z
UID:10025019-1723986000-1723993200@kiac.ca
SUMMARY:Gnome Painting
DESCRIPTION:Please enable JavaScript in your browser to complete this form.Sunday\, August 18th 1-3pm\nJoin us in the Dawson City community garden for a day of outdoor activity and art! \nThis is a fun and laid back activity to do with your friends\, family\, or on your own to unwind and enjoy the outdoors as you paint your very own garden gnome to take home! \nAll supplies will be provided as well as some yummy snacks and water so you stay hydrated and only hungry for more art! \nCost: $10 per participating person \nLocation: Dawson city community garden located on 3rd avenue between Duke and Albert. \nPLEASE FILL OUT THE FORM BELOW TO RESERVE A SPOT THIS ACTIVITY IS LIMITED TO 20 PARTICIPANTS. \nPay online Here. \nor contact us at 993-5005 or programs@kiac.ca. \nParticipant Name *FirstLastParticipant Age *Email *PhoneCheckboxes *She/HerHe/HimThey/ThemOther - Please write down belowI'd rather not sayComment or MessagePlease indicate any special accommodation requests\, comments\, or questions.Submit
URL:https://kiac.ca/calendar-of-events/gnome-painting/
LOCATION:Community Gardens\, Dawson City\, Yukon Territory\, Y0B1G0\, Canada
CATEGORIES:Workshops & Drop-Ins
ATTACH;FMTTYPE=image/png:https://kiac.ca/wp-content/uploads/2024/08/Gnome-Painting-3.png
END:VEVENT
BEGIN:VEVENT
DTSTART;TZID=America/Whitehorse:20240821T180000
DTEND;TZID=America/Whitehorse:20240821T210000
DTSTAMP:20260420T080452
CREATED:20240104T011136Z
LAST-MODIFIED:20241220T175259Z
UID:10025090-1724263200-1724274000@kiac.ca
SUMMARY:Screen Printing Drop-In
DESCRIPTION:Wednesdays\, 6-9 pm \nSelf-guided group studio time for those who have some knowledge and experience with screen printing. A volunteer or staff member will be available to answer questions. Basic materials provided with additional supplies available for purchase. \nDrop-in fee: $10 for KIAC members / $12 for non-members (cash only) \n902 – 2nd Avenue (at Princess Street). Please use the back door for classroom access.
URL:https://kiac.ca/calendar-of-events/screen-printing-drop-in-2/2024-08-21/
LOCATION:Klondike Institute of Art & Culture (KIAC)\, 902 2nd Avenue\, Dawson City
CATEGORIES:Workshops & Drop-Ins
ATTACH;FMTTYPE=image/png:https://kiac.ca/wp-content/uploads/2024/01/IMG_1469.png
END:VEVENT
BEGIN:VEVENT
DTSTART;TZID=America/Whitehorse:20240828T180000
DTEND;TZID=America/Whitehorse:20240828T210000
DTSTAMP:20260420T080452
CREATED:20240104T011136Z
LAST-MODIFIED:20241220T175259Z
UID:10025091-1724868000-1724878800@kiac.ca
SUMMARY:Screen Printing Drop-In
DESCRIPTION:Wednesdays\, 6-9 pm \nSelf-guided group studio time for those who have some knowledge and experience with screen printing. A volunteer or staff member will be available to answer questions. Basic materials provided with additional supplies available for purchase. \nDrop-in fee: $10 for KIAC members / $12 for non-members (cash only) \n902 – 2nd Avenue (at Princess Street). Please use the back door for classroom access.
URL:https://kiac.ca/calendar-of-events/screen-printing-drop-in-2/2024-08-28/
LOCATION:Klondike Institute of Art & Culture (KIAC)\, 902 2nd Avenue\, Dawson City
CATEGORIES:Workshops & Drop-Ins
ATTACH;FMTTYPE=image/png:https://kiac.ca/wp-content/uploads/2024/01/IMG_1469.png
END:VEVENT
END:VCALENDAR