BEGIN:VCALENDAR
VERSION:2.0
PRODID:-//KLONDIKE INSTITUTE OF ART &amp; CULTURE - ECPv6.15.18//NONSGML v1.0//EN
CALSCALE:GREGORIAN
METHOD:PUBLISH
X-ORIGINAL-URL:https://kiac.ca
X-WR-CALDESC:Events for KLONDIKE INSTITUTE OF ART &amp; CULTURE
REFRESH-INTERVAL;VALUE=DURATION:PT1H
X-Robots-Tag:noindex
X-PUBLISHED-TTL:PT1H
BEGIN:VTIMEZONE
TZID:America/Whitehorse
BEGIN:STANDARD
TZOFFSETFROM:-0700
TZOFFSETTO:-0700
TZNAME:MST
DTSTART:20240101T000000
END:STANDARD
END:VTIMEZONE
BEGIN:VEVENT
DTSTART;TZID=America/Whitehorse:20250611T190000
DTEND;TZID=America/Whitehorse:20250611T210000
DTSTAMP:20260419T152638
CREATED:20250604T215651Z
LAST-MODIFIED:20250604T224450Z
UID:10026753-1749668400-1749675600@kiac.ca
SUMMARY:ARTIST TALK - Beyond the Algorithm: Art\, Ethics\, and AI with Cat Bluemke
DESCRIPTION:How can artists harness artificial intelligence as a meaningful tool rather than a threat? Join artist and educator Cat Bluemke for an engaging talk exploring her evolving practice at the intersection of emerging technologies\, game design\, and critical art-making. Drawing from years of boundary-pushing work\, Bluemke will share her journey and speak directly to the promises and perils of AI in creative spaces. \nThrough personal insight and practical examples\, this talk explores how AI can support artistic autonomy\, community engagement\, and collective authorship—without erasing the ethics of intellectual labor. Aimed at artists\, technologists\, and skeptics alike\, the conversation will also address pressing concerns around copyright\, consent\, and the commercialization of generative tools. \nThe session includes a 30-minute presentation of Bluemke’s work\, a 15-minute reflection on AI as a creative medium\, and a 20-30-minute open Q&A where attendees are encouraged to ask hard questions and challenge assumptions.
URL:https://kiac.ca/calendar-of-events/artist-talk-beyond-the-algorithm-art-ethics-and-ai-with-cat-bluemke/
LOCATION:Klondike Institute of Art & Culture (KIAC)\, 902 2nd Avenue\, Dawson City
CATEGORIES:Artist in Residence,Community Engagement
ATTACH;FMTTYPE=image/png:https://kiac.ca/wp-content/uploads/2025/06/GAN-Promo-2.png
END:VEVENT
END:VCALENDAR