BEGIN:VCALENDAR
VERSION:2.0
PRODID:-//KLONDIKE INSTITUTE OF ART &amp; CULTURE - ECPv6.15.18//NONSGML v1.0//EN
CALSCALE:GREGORIAN
METHOD:PUBLISH
X-ORIGINAL-URL:https://kiac.ca
X-WR-CALDESC:Events for KLONDIKE INSTITUTE OF ART &amp; CULTURE
REFRESH-INTERVAL;VALUE=DURATION:PT1H
X-Robots-Tag:noindex
X-PUBLISHED-TTL:PT1H
BEGIN:VTIMEZONE
TZID:America/Whitehorse
BEGIN:STANDARD
TZOFFSETFROM:-0700
TZOFFSETTO:-0700
TZNAME:MST
DTSTART:20240101T000000
END:STANDARD
END:VTIMEZONE
BEGIN:VEVENT
DTSTART;VALUE=DATE:20250221
DTEND;VALUE=DATE:20250319
DTSTAMP:20260419T204827
CREATED:20250221T201831Z
LAST-MODIFIED:20250223T211528Z
UID:10026398-1740103200-1742263199@kiac.ca
SUMMARY:Re:Imagine | Re:Create - Reclaimed Public Art Residency OPEN CALL!
DESCRIPTION:Program Description\nThe ODD Gallery\, in collaboration with STEPS (Sustainable Thinking & Expressions in Public Spaces)\, is pleased to present Re:Imagine | Re:Create\, a public art initiative that champions sustainability\, creative reuse\, and community engagement. This program will commission the creation of an original site-specific public artworks utilizing reclaimed materials sourced from various locations across Dawson City\, including the municipal dump\, Thrift Store\, Free Store\, local construction sites\, mis-tint paint from Home Hardware\, and donations from voluntary community members. This initiative seeks to engage an artist with a demonstrated history of working with reclaimed materials\, ensuring the final artworks are not only structurally sound but also conceptually rigorous\, inclusive\, and accessible to a diverse audience. The selected artist will be challenged to consider both the environmental implications of material reuse and the social narratives embedded within the salvaged objects\, transforming discarded materials into evocative public art installations that foster dialogue and reflection. The completed works will be temporarily installed on the Dawson City dike as part of the Yukon Riverside Arts Festival (YRAF) taking place June 12 – 15\, 2025. By activating this prominent public space with thought-provoking and environmentally conscious art\, Re:Imagine | Re:Create aims to highlight the potential of creative sustainability while deepening community connections to both the artistic process and the local landscape. \nThis project is supported by STEPS Public Art\, the TD Bank Group through the TD Ready Commitment and the Canadian Council for the Arts. \nPlease see our Public Art -> OPEN CALL – Re:Imagine | Re:Create page for full details on how and when to apply.\n \nWe’re looking forward to reviewing all potential proposals!\n\nAbout STEPS\n\n\n STEPS Public Art is a Canadian charity and social enterprise. STEPS offers services in public art management\, hoarding exhibits\, cultural planning\, and artist capacity building. Our charitable programs support artists and foster vibrant and inclusive communities across the country. www.stepspublicart.org
URL:https://kiac.ca/calendar-of-events/reimagine-recreate-public-art-open-call/
LOCATION:ODD Gallery
CATEGORIES:Artist in Residence,Community Engagement
ATTACH;FMTTYPE=image/png:https://kiac.ca/wp-content/uploads/2025/02/Open-Call-Web-Posts-1800-x-924-px-1.png
END:VEVENT
BEGIN:VEVENT
DTSTART;TZID=America/Whitehorse:20250331T190000
DTEND;TZID=America/Whitehorse:20250331T203000
DTSTAMP:20260419T204827
CREATED:20250319T222135Z
LAST-MODIFIED:20250324T164838Z
UID:10026408-1743447600-1743453000@kiac.ca
SUMMARY:New Date: Artist Talk: Yasmine Renaud
DESCRIPTION:Film Producing 101 \nJoin Yasmine Renaud\, KIAC’s current Artist in Residence\, for a behind-the-scenes look at developing a film in the Yukon! Using her documentary project on the Klondike Ice Queens Hockey as a case study\, Yasmine will cover pitching\, funding\, workflow\, and more. Featuring a pitch deck materials\, trailers\, and real-world insights—don’t miss this informative session for aspiring filmmakers!
URL:https://kiac.ca/calendar-of-events/artist-talk-yasmine-renaud/
LOCATION:Klondike Institute of Art & Culture (KIAC)\, 902 2nd Avenue\, Dawson City
CATEGORIES:Artist in Residence
ATTACH;FMTTYPE=image/png:https://kiac.ca/wp-content/uploads/2025/03/Renaud_banner.png
END:VEVENT
END:VCALENDAR