BEGIN:VCALENDAR
VERSION:2.0
PRODID:-//KLONDIKE INSTITUTE OF ART &amp; CULTURE - ECPv6.15.18//NONSGML v1.0//EN
CALSCALE:GREGORIAN
METHOD:PUBLISH
X-ORIGINAL-URL:https://kiac.ca
X-WR-CALDESC:Events for KLONDIKE INSTITUTE OF ART &amp; CULTURE
REFRESH-INTERVAL;VALUE=DURATION:PT1H
X-Robots-Tag:noindex
X-PUBLISHED-TTL:PT1H
BEGIN:VTIMEZONE
TZID:America/Whitehorse
BEGIN:STANDARD
TZOFFSETFROM:-0700
TZOFFSETTO:-0700
TZNAME:MST
DTSTART:20230101T000000
END:STANDARD
END:VTIMEZONE
BEGIN:VEVENT
DTSTART;VALUE=DATE:20241002
DTEND;VALUE=DATE:20241102
DTSTAMP:20260420T034039
CREATED:20241003T004646Z
LAST-MODIFIED:20241009T211936Z
UID:10025443-1727834400-1730426399@kiac.ca
SUMMARY:STEPS + ODD Gallery Present: Raven Shares the Sun
DESCRIPTION:KRYSTLE SILVERFOX  |  RAVEN SHARES THE SUN\nOctober 2024 – September 2025 Front Street & Princess Street Tr’ondëk Hwëch’in territory\, Dawson City\, Yukon \nOPENING RECEPTION: Tentatively Scheduled for January 15th\, 2025 ARTIST TALK: TBD \nRaven Shares the Sun is a story about how Raven uses their shape-shifting abilities to transform themselves into various forms in order to steal the Sun from a great Chief. Long ago\, the world has only darkness because the Sun\, Stars and Moon were stored away in bentwood boxes owned by a great Chief. Raven – a bird who loves shiny things – created a plan to acquire the celestial beings. Raven first disguised himself as a spruce needle floating in the water\, and the Chief’s daughter accidentally drank Raven\, becoming pregnant with a son (Raven). Once the boy was born\, the Chief allowed his grandson to play with the bentwood boxes that contained the Moon and Stars – which Raven disguised as a boy released into the dark sky. The Chief tells his grandson he cannot play with the last box containing the Sun\, as he doesn’t want the Sun to be released too. However\, after the young boy sulks his grandfather relents\, allowing his grandson to play with the last box – but only if he doesn’t touch the Sun. As soon as the boy opened the box\, he grabbed the Sun and instantly transformed back into a White Raven with the Sun in his beak. As a quick escape\, Raven flew out the smoke stack\, becoming the black bird we know today. Raven then released the sun for all to share and enjoy. \nComprised of 5 minimalist anamorphic sculptures placed on the Dawson City waterfront along the Yukon River\, the artwork will appear abstract until viewers stand in a specific location where the art pieces align to create an abstracted image of Raven. To celebrate the return of the Sun after the Yukon’s long and dark winters\, Raven will appear to hold the sun in his beak once the Sun’s path returns to hover over the road to the Midnight Dome in mid-January. \nThe sculpture\, produced by Northern Tutchone artist Krystle Silverfox\, pays homage to the story of Raven and the Sun – an important ancestral Yukon First Nations Story. \n\n\n \n\nCBC Interview\n\n\n\n\nKrystle Silverfox is a member of Selkirk First Nation (Wolf Clan)\, and interdisciplinary visual artist. She currently lives and works on the traditional territory of the Ta’an Kwäch’än Council and the Kwanlin Dün First Nation (Whitehorse\, Yukon). Silverfox holds both a BFA in Visual Art (2015); a BA in Gender\, Race\, Sexuality and Social Justice from UBC (2013); also an MFA in Interdisciplinary studies from Simon Fraser University (2019). Inspired by a material- focused practice\, Silverfox uses visual mediums to communicate ideas and tell stories. Silverfox’s work explores concepts of Indigenous futurism\, feminism\, activism\, and de-colonialism. \nSTEPS (Sustainable Thinking & Expressions in Public Spaces) This project is part of the CreateSpace Public Art Residency by STEPS Public Art \, a national program bringing public art to communities across the country. The residency is supported by the Canada Council for the Arts\, Canadian Race Relations Foundation with funding provided by the Government of Canada\, and TD Bank Group through the TD Ready Commitment. \n\n\n\n\n\n\n\nThis project wouldn’t have been possible without the generous support of our many partners. We would like to formally thank the Robert Service School for use of their workshop space\, ISL Engineering for their construction consultation advice\, Wildstone Construction Group and Arctech Circle Welding Services for installing the artwork onsite\, and our many funders Canada Council for the Arts\, Canadian Race Relations Foundation\, and TD Ready Commitment.  
URL:https://kiac.ca/calendar-of-events/steps-odd-gallery-present-raven-shares-the-sun/
LOCATION:Front Street Picnic Shelter\, Front Street at Princess Street\, Dawson City\, Yukon\, Y0B1G0
CATEGORIES:Exhibitions
ATTACH;FMTTYPE=image/png:https://kiac.ca/wp-content/uploads/2024/10/Raven-Shares-Sn-Drawing-Website.png
END:VEVENT
BEGIN:VEVENT
DTSTART;TZID=America/Whitehorse:20241024T190000
DTEND;TZID=America/Whitehorse:20241024T220000
DTSTAMP:20260420T034039
CREATED:20241016T220304Z
LAST-MODIFIED:20241016T220304Z
UID:10025447-1729796400-1729807200@kiac.ca
SUMMARY:ANNE STEVES  |  FLIGHT [CAGE] Opening Reception & Artist Talk + Rug Tufting Demonstration
DESCRIPTION:ANNE STEVES  |  FLIGHT [CAGE]\nOctober 24th – December 7th\, 2024\nODD Gallery\, Dënäkär Zho |  KIAC\nTr’ondëk Hwëch’in territory\, Dawson City\, Yukon \nOPENING RECEPTION & ARTIST TALK + RUG TUFTING DEMO: Thursday\, October 24th\, 7pm – 10pm\nJoin Anne Steves at her exhibition opening Flight [Cage] where she will be discussing her artistic practice and demonstrating how she created her life-size bird rugs with the use of a rug tufting machine. \nWine and snacks provided. \n\nWelsh-Canadian artist Anne Steves invites us to reflect on the universal and intimate dilemmas of life\, loss\, and connection – avian and otherwise – through her exhibition Flight [Cage]. Featuring tufted wool rugs\, photographs\, and her own written reflections\, she transforms images of lifeless birds – her own and those gleaned from friends both near and online – into large\, human-scale artworks. As children\, we are admonished not to touch dead animals. Steves\, however\, seeks connection\, merging her own body with those of the birds through safe and beautiful surrogates\, mirroring their final poses in her photography\, attempting to enter their world. Her work invites gallery visitors to join her in interacting with these tactile proxies\, absorbing the words and images presented and sitting with the feelings and thoughts that emerge.
URL:https://kiac.ca/calendar-of-events/anne-steves-flight-cage-opening-reception-artist-talk-rug-tufting-demonstration/
LOCATION:ODD Gallery
CATEGORIES:Exhibitions
ATTACH;FMTTYPE=image/png:https://kiac.ca/wp-content/uploads/2024/10/ODD-Gallery-FB-Posts-Q3-2024-Anne-Steves.png
END:VEVENT
END:VCALENDAR