BEGIN:VCALENDAR
VERSION:2.0
PRODID:-//KLONDIKE INSTITUTE OF ART &amp; CULTURE - ECPv6.15.18//NONSGML v1.0//EN
CALSCALE:GREGORIAN
METHOD:PUBLISH
X-ORIGINAL-URL:https://kiac.ca
X-WR-CALDESC:Events for KLONDIKE INSTITUTE OF ART &amp; CULTURE
REFRESH-INTERVAL;VALUE=DURATION:PT1H
X-Robots-Tag:noindex
X-PUBLISHED-TTL:PT1H
BEGIN:VTIMEZONE
TZID:America/Whitehorse
BEGIN:STANDARD
TZOFFSETFROM:-0700
TZOFFSETTO:-0700
TZNAME:MST
DTSTART:20240101T000000
END:STANDARD
END:VTIMEZONE
BEGIN:VEVENT
DTSTART;TZID=America/Whitehorse:20250612T180000
DTEND;TZID=America/Whitehorse:20250612T190000
DTSTAMP:20260422T020931
CREATED:20250612T004401Z
LAST-MODIFIED:20250612T004401Z
UID:10026764-1749751200-1749754800@kiac.ca
SUMMARY:Gallery Hop Opening Reception and Festival Kick-Off at DZCC
DESCRIPTION:Gallery Hop Opening Reception and Yukon Riverside Arts Festival Kick-Off \nYukon Riverside Arts Festival and the Gallery Hop kicks off at the Dänojà Zho Cultural Centre from 6pm-7pm with an opening reception including refreshments\, artwork\, and films. \nAfter the reception\, pick up your Gallery Hop map and explore!
URL:https://kiac.ca/calendar-of-events/gallery-hop-opening-reception-and-festival-kick-off-at-dzcc/
LOCATION:Dänojà Zho Cultural Centre
CATEGORIES:Exhibitions
ATTACH;FMTTYPE=image/png:https://kiac.ca/wp-content/uploads/2025/06/Gallery-Hop-opening-reception-Instagram-Post-1.png
END:VEVENT
BEGIN:VEVENT
DTSTART;TZID=America/Whitehorse:20250612T180000
DTEND;TZID=America/Whitehorse:20250612T220000
DTSTAMP:20260422T020931
CREATED:20250611T060839Z
LAST-MODIFIED:20250611T060840Z
UID:10026758-1749751200-1749765600@kiac.ca
SUMMARY:Gallery Hop!
DESCRIPTION:The Gallery Hop is a self-directed\, community-wide art walk that kicks off the Yukon Riverside Arts Festival\, transforming local spaces and businesses into temporary exhibition spaces\, performance venues\, and creative hubs for one night only. This event offers a unique platform for artists to showcase their work\, experiment with immersive installations\, or engage audiences through live performances and interactive experiences. \nThe Gallery Hop kicks off at the Dänojà Zho Cultural Centre from 6pm-7pm with an opening reception including refreshments\, artwork\, and films. \nCheck out the Gallery Hop Map for the full list of exhibits\, performances\, and events happening all around town from 7-10pm. \nClose out the evening with a show from John from Dawson at The Bunkhouse from 9-10pm.
URL:https://kiac.ca/calendar-of-events/gallery-hop/
CATEGORIES:Exhibitions
ATTACH;FMTTYPE=image/png:https://kiac.ca/wp-content/uploads/2025/06/Gallery-Hop-poster-Instagram-Post.png
END:VEVENT
BEGIN:VEVENT
DTSTART;TZID=America/Whitehorse:20250612T190000
DTEND;TZID=America/Whitehorse:20250612T220000
DTSTAMP:20260422T020931
CREATED:20250529T234940Z
LAST-MODIFIED:20250603T201703Z
UID:10026741-1749754800-1749765600@kiac.ca
SUMMARY:WEAVING THE MIDNIGHT SUN Opening Reception
DESCRIPTION:Please join us for the opening reception of Weaving the Midnight Sun\, a new exhibition celebrating the creativity and craftsmanship of Yukon fibre artists! \n Date: June 12th\, 2025 Time: 7pm – 10pm Location: ODD Gallery\, Dawson City Wine\, cheese and non-alcoholic beverages will be served Free & open to all! \n\nPresented by the Northern Fibres Guild \nWeaving the Midnight Sun is a celebration of fibre practice in the Yukon — a region shaped by long winters\, luminous summers\, and the steady rhythm of handwork passed between generations. This exhibition brings together the work of artists and makers from the Northern Fibres Guild\, an organization that has supported and nurtured Yukon fibre artists since its beginnings in 1974. \nRooted in traditional techniques like spinning\, weaving\, dyeing\, and felting\, and expanding into contemporary interpretations of textile art\, these works speak to the resourcefulness\, creativity\, and quiet resilience of making in the North. Each piece carries a unique story — of material transformed\, of time held in stitch and thread\, of ideas shared in community. \nLike the midnight sun itself\, these works radiate warmth\, clarity\, and a sense of wonder. They invite us to consider the power of slow\, intentional creation — and the ways in which fibre connects us to the land\, to each other\, and to the long thread of creative practice that we continue to weave together. \n\nWe are grateful for the support of Canada Council for the Arts along with the Yukon Tourism and Culture Arts Operating Funds
URL:https://kiac.ca/calendar-of-events/weaving-the-midnight-sun-opening-reception/
LOCATION:ODD Gallery
CATEGORIES:Exhibitions
ATTACH;FMTTYPE=image/png:https://kiac.ca/wp-content/uploads/2025/05/NFG-Exhibit-FB-Post.png
END:VEVENT
BEGIN:VEVENT
DTSTART;TZID=America/Whitehorse:20250614T110000
DTEND;TZID=America/Whitehorse:20250614T150000
DTSTAMP:20260422T020931
CREATED:20250605T175401Z
LAST-MODIFIED:20250605T175401Z
UID:10026755-1749898800-1749913200@kiac.ca
SUMMARY:From Rags to Rug: Community Loom Demonstration
DESCRIPTION:As part of Weaving the Midnight Sun and the Yukon Riverside Arts Festival\, textile artist Janice Brodie invites the public into the process of community weaving. \nUsing scraps\, old linens\, and fabric donated by Dawson locals and drawn from her own stash\, Janice will spend the day weaving a communal rug on a floor loom in the ODD Gallery. This is a celebration of reuse\, resilience\, and the stories we share through cloth. \nVisitors are welcome to stop in\, ask questions\, contribute material\, or even try weaving a few rows. Whether you participate for a moment or an hour\, your presence becomes part of the finished piece — a rug woven by many hands\, for many to enjoy. \nAll ages and experience levels are welcome!
URL:https://kiac.ca/calendar-of-events/from-rags-to-rug-community-loom-demonstration/
LOCATION:ODD Gallery
CATEGORIES:Community Engagement,Exhibitions,Workshops & Drop-Ins
ATTACH;FMTTYPE=image/png:https://kiac.ca/wp-content/uploads/2025/06/Rag-Rug-demo-FB-Post.png
END:VEVENT
BEGIN:VEVENT
DTSTART;TZID=America/Whitehorse:20250618T080000
DTEND;TZID=America/Whitehorse:20250618T170000
DTSTAMP:20260422T020931
CREATED:20250618T172231Z
LAST-MODIFIED:20250618T172932Z
UID:10026767-1750233600-1750266000@kiac.ca
SUMMARY:WEAVING THE MIDNIGHT SUN
DESCRIPTION:CLOSED SATURDAY JUNE 21ST for INDIGENOUS PEOPLE’S DAY \nDates: June 12th – August 30th\, 2025 Gallery Hours: Tuesdays – Fridays: 10am – 5pm & Saturdays: 12 – 4pm Location: ODD Gallery\, Dënäkär Zho |  KIAC Indigenous Territory: Tr’ondëk Hwëch’in territory\, Dawson City\, Yukon \n\n\n\n\n\nWEAVING THE MIDNIGHT SUN\n\n\n\nWeaving the Midnight Sun is a celebration of fibre practice in the Yukon — a region shaped by long winters\, luminous summers\, and the steady rhythm of handwork passed between generations. This exhibition brings together the work of artists and makers from the Northern Fibres Guild\, an organization that has supported and nurtured Yukon fibre artists since its beginnings in 1974. \n\n\n\nRooted in traditional techniques like spinning\, weaving\, dyeing\, and felting\, and expanding into contemporary interpretations of textile art\, these works speak to the resourcefulness\, creativity\, and quiet resilience of making in the North. Each piece carries a unique story — of material transformed\, of time held in stitch and thread\, of ideas shared in community. \n\n\n\nLike the midnight sun itself\, these works radiate warmth\, clarity\, and a sense of wonder. They invite us to consider the power of slow\, intentional creation — and the ways in which fibre connects us to the land\, to each other\, and to the long thread of creative practice that we continue to weave together. \n\n\n\nNorthern Fibres Guild\n\n\n\nThe Northern Fibres Guild is a community of artists\, makers\, and enthusiasts dedicated to the fibre arts in the Yukon. Founded in 1974 as the Yukon Weavers’ Guild\, the organization has grown over the decades to embrace a wide range of traditional and contemporary textile practices — including spinning\, weaving\, dyeing\, knitting\, felting\, sewing\, and more. Based in Whitehorse and open to members from across the territory and beyond\, the Guild provides a welcoming space for people of all skill levels to learn\, create\, and connect. Through regular workshops\, exhibitions\, artist talks\, and social events\, we foster the exchange of knowledge\, ideas\, and inspiration among fibre lovers of all backgrounds. Our members are united by a shared appreciation for slow\, hands-on making and the rich creative possibilities of natural and reclaimed materials. Whether you’re just picking up a drop spindle for the first time or have years of experience behind a loom\, the Northern Fibres Guild is here to support your fibre journey. Join us to be part of a vibrant\, intergenerational community where creativity is nurtured\, skills are shared\, and the threads of tradition and innovation are woven together in the North.. \n\n\n\nWe are grateful for the support of Canada Council for the Arts along with the Yukon Tourism and Culture Arts Operating Funds  
URL:https://kiac.ca/calendar-of-events/northern-fibres-guild-weaving-the-midnight-sun/
LOCATION:Klondike Institute of Art & Culture (KIAC)\, 902 2nd Avenue\, Dawson City
CATEGORIES:Exhibitions
ATTACH;FMTTYPE=image/png:https://kiac.ca/wp-content/uploads/2025/06/NFG-Exhibition-Poster-e1750267524411.png
END:VEVENT
END:VCALENDAR