BEGIN:VCALENDAR
VERSION:2.0
PRODID:-//KLONDIKE INSTITUTE OF ART &amp; CULTURE - ECPv6.15.18//NONSGML v1.0//EN
CALSCALE:GREGORIAN
METHOD:PUBLISH
X-WR-CALNAME:KLONDIKE INSTITUTE OF ART &amp; CULTURE
X-ORIGINAL-URL:https://kiac.ca
X-WR-CALDESC:Events for KLONDIKE INSTITUTE OF ART &amp; CULTURE
REFRESH-INTERVAL;VALUE=DURATION:PT1H
X-Robots-Tag:noindex
X-PUBLISHED-TTL:PT1H
BEGIN:VTIMEZONE
TZID:America/Whitehorse
BEGIN:STANDARD
TZOFFSETFROM:-0700
TZOFFSETTO:-0700
TZNAME:MST
DTSTART:20240101T000000
END:STANDARD
END:VTIMEZONE
BEGIN:VEVENT
DTSTART;TZID=America/Whitehorse:20250724T080000
DTEND;TZID=America/Whitehorse:20250919T120000
DTSTAMP:20260420T105145
CREATED:20250724T234915Z
LAST-MODIFIED:20250724T234915Z
UID:10026786-1753344000-1758283200@kiac.ca
SUMMARY:ODD Gallery MEMBER'S ACCESS: October - November 2025 RESERVATIONS
DESCRIPTION:Reserve Your Member’s Access Spot for October or November\, 2025\n\n\n\nThe ODD Gallery is now accepting bookings from KIAC members. (New members always welcome!) \nOctober 7th – November 21st\, 2025  \nThis could be an opportunity to photo-document your work\, to workshop an installation\, or work on a project. The Gallery Members’ Access time is for private use\, but small public events may be possible on a case-by-case basis (ie. small presentation\, conversation\, or viewing open to peers / public). Let us know what you’d like to do on this form! Proposed activities should be self-sufficient and independent of KIAC staff. \n\nBookings are first-come\, first-served (pending approval)\nSpace can be reserved for up to 14 days at a time (including evenings and weekends)\nApproved dates may be shorter than requested\, depending on interest / scheduling\nDEADLINE for bookings: September 19th\, 2025 at NOON Yukon Time\n\nPlease fill out this form to make a booking\nNot sure if your project fits? Give us a call or send us an email. \nPlease contact Jessica Svenningson in the gallery to discuss ideas and availability. \n993 5005 or gallery@kiac.ca
URL:https://kiac.ca/calendar-of-events/odd-gallery-members-access-october-november-2025-reservations/
LOCATION:ODD Gallery
CATEGORIES:Community Engagement,Exhibitions
ATTACH;FMTTYPE=image/jpeg:https://kiac.ca/wp-content/uploads/2025/07/IMG_2686-scaled-e1753391321350.jpg
END:VEVENT
BEGIN:VEVENT
DTSTART;TZID=America/Whitehorse:20250805T170000
DTEND;TZID=America/Whitehorse:20250805T200000
DTSTAMP:20260420T105145
CREATED:20250801T204055Z
LAST-MODIFIED:20250801T204055Z
UID:10026788-1754413200-1754424000@kiac.ca
SUMMARY:Access as an Art: A Community Exploration
DESCRIPTION:Come join us at the School of Visual Arts Confluence Gallery August 5th from 5pm – 8pm to celebrate community art installed with accessible intention. \nRegular Gallery Operating Hours: \nAugust 6th – 8th: 2pm – 6pm \nAugust 9th – 12th: 10am – 5pm \nPublic Artist Talk: \nAugust 12th: 12pm – 1pm \nPuppets\, paintings\, kites\, quilts\, pillows and more await your interaction! \nSee you there! \n 
URL:https://kiac.ca/calendar-of-events/access-as-an-art-a-community-exploration/
LOCATION:Yukon School of Visual Arts (SOVA)\, 982 Third Ave\, Dawson City\, Yukon Territory\, Y0B1G0\, Canada
CATEGORIES:Community Engagement,Exhibitions,Kids & Youth
ATTACH;FMTTYPE=image/jpeg:https://kiac.ca/wp-content/uploads/2025/08/F0AF3ADD-894A-4282-990B-2A9E65272A82.jpeg
END:VEVENT
END:VCALENDAR