BEGIN:VCALENDAR
VERSION:2.0
PRODID:-//KLONDIKE INSTITUTE OF ART &amp; CULTURE - ECPv6.15.18//NONSGML v1.0//EN
CALSCALE:GREGORIAN
METHOD:PUBLISH
X-ORIGINAL-URL:https://kiac.ca
X-WR-CALDESC:Events for KLONDIKE INSTITUTE OF ART &amp; CULTURE
REFRESH-INTERVAL;VALUE=DURATION:PT1H
X-Robots-Tag:noindex
X-PUBLISHED-TTL:PT1H
BEGIN:VTIMEZONE
TZID:America/Whitehorse
BEGIN:STANDARD
TZOFFSETFROM:-0700
TZOFFSETTO:-0700
TZNAME:MST
DTSTART:20240101T000000
END:STANDARD
END:VTIMEZONE
BEGIN:VEVENT
DTSTART;VALUE=DATE:20250213
DTEND;VALUE=DATE:20250414
DTSTAMP:20260419T110308
CREATED:20250219T174500Z
LAST-MODIFIED:20250305T183627Z
UID:10026397-1739412000-1744509599@kiac.ca
SUMMARY:TROPICANA Exhibition - FREE Private Tours!
DESCRIPTION:JUAN ORTIZ-APUY  |  TROPICANA February 13 – April 12\, 2025 ODD Gallery\, Dënäkär Zho |  KIAC Tr’ondëk Hwëch’in territory\, Dawson City\, Yukon \n\n\n\n\n\nTROPICANA\n\n\n\nA GENUINE FORAY INTO THE WORLD OF OBJECTS\, THE YOUTH EXHIBITION TROPICANA SEEKS TO EXAMINE THE WAY WE CONSUME TODAY THE BETTER TO UNDERSTAND ITS FUTURE IMPACTS. \n\n\n\nWhen confronting the environmental crisis\, in which unbridled production of goods is threatening the diversity of the natural world\, it’s essential that we take an interest in how things are displayed\, commercialized and consumed\, whether in brick-and-mortar store windows or online. This youth exhibition\, specially designed for kids and teenagers aged 6 to 14\, casts a critical eye on modern consumer society and advertising aimed at children\, which often features animals\, colours\, sounds and shapes designed to appeal to them. For the occasion\, Montreal-based Costa Rican artist Juan Ortiz-Apuy has created a visual and sound environment allowing visitors to explore the language of advertising and its ability to act on us\, in sometimes unexpected ways. The artist based his research on new marketing strategies that have emerged in the social media era\, i.e.\, the phenomenon of “unboxing” and ASMR (Autonomous Sensory Meridian Response) videos. Besides a guided tour\, children can take part in a workshop designed to awaken their senses\, creativity and critical thinking. Observation games to be completed with family members round out the experience. \nTo learn more about the artist – GO HERE \n  \n\n\n\nFREE Private Tour Booking\n\n\n\nThe ODD Gallery is excited to offer pre-scheduled 45-minute or 90-minute tours of TROPICANA to any interested schools\, daycares\, youth centres\, elders centres\, families or professional organizations interested in directed education on how stealth-marketing incentives all of us to buy. Please use the form below to book your private tour today! \nHours of availability: Tuesday – Friday\, start at 9am – ending at 6pm \nTours are unavailable from March 7 – 17th\, but will restart March 18th \nContact Jessica via email gallery@kiac.ca or 993-5005 if you have any questions. \nODD Gallery Tropicana Educational ToursPlease enable JavaScript in your browser to complete this form.Name *FirstLastPhone *Email *Date / Time *DateTimePlease let us know what day and time you'd like your 90 minute tour to begin so we can ensure we book it into our schedule.\n\nTours can be booked from 10am - 6pm Monday - Friday. \n\nThe final day to book a tour is April 11th\, 2025.		\n			Range Visitors (choose\n			\n		\n		Age Range of Visitors (choose all that apply in your group) *0 - 5 Years Old6 - 8 Years Old9 - 11 Years Old12 - 14 Years Old15 - 18 Years Old18+65+Informing us of the ages of attendees helps us better prepare materials for your visit.Comment or MessageSubmit   \n\n\n\n\n\nCrédit pour la tournée de Juan : \n\n\n\nLa circulation de Tropicana bénéficie du soutien financier du Conseil des arts du Canada et du Conseil des arts et des lettres du Québec. Cette exposition a été produite en 2020 par VOX\, centre de l’image contemporaine grâce au soutien financier du Conseil des arts et des lettres du Québec. \n\n\n\nCredits for Juan tour: \n\n\n\nThe Tropicana’s tour benefits from the financial support of the Canada Council for the Arts and the Conseil des arts et des lettres du Québec. This exhibition was produced in 2020 by VOX\, centre de l’image contemporaine with financial support from the Conseil des arts et des lettres du Québec.   \n\n\n\n\n\n.  . 
URL:https://kiac.ca/calendar-of-events/juan-ortiz-apuy-tropicana/
LOCATION:Klondike Institute of Art & Culture (KIAC)\, 902 2nd Avenue\, Dawson City
CATEGORIES:Community Engagement,Exhibitions,Kids & Youth,Workshops & Drop-Ins
ATTACH;FMTTYPE=image/png:https://kiac.ca/wp-content/uploads/2025/02/Private-Tour-Booking.png
END:VEVENT
BEGIN:VEVENT
DTSTART;VALUE=DATE:20250221
DTEND;VALUE=DATE:20250319
DTSTAMP:20260419T110308
CREATED:20250221T201831Z
LAST-MODIFIED:20250223T211528Z
UID:10026398-1740103200-1742263199@kiac.ca
SUMMARY:Re:Imagine | Re:Create - Reclaimed Public Art Residency OPEN CALL!
DESCRIPTION:Program Description\nThe ODD Gallery\, in collaboration with STEPS (Sustainable Thinking & Expressions in Public Spaces)\, is pleased to present Re:Imagine | Re:Create\, a public art initiative that champions sustainability\, creative reuse\, and community engagement. This program will commission the creation of an original site-specific public artworks utilizing reclaimed materials sourced from various locations across Dawson City\, including the municipal dump\, Thrift Store\, Free Store\, local construction sites\, mis-tint paint from Home Hardware\, and donations from voluntary community members. This initiative seeks to engage an artist with a demonstrated history of working with reclaimed materials\, ensuring the final artworks are not only structurally sound but also conceptually rigorous\, inclusive\, and accessible to a diverse audience. The selected artist will be challenged to consider both the environmental implications of material reuse and the social narratives embedded within the salvaged objects\, transforming discarded materials into evocative public art installations that foster dialogue and reflection. The completed works will be temporarily installed on the Dawson City dike as part of the Yukon Riverside Arts Festival (YRAF) taking place June 12 – 15\, 2025. By activating this prominent public space with thought-provoking and environmentally conscious art\, Re:Imagine | Re:Create aims to highlight the potential of creative sustainability while deepening community connections to both the artistic process and the local landscape. \nThis project is supported by STEPS Public Art\, the TD Bank Group through the TD Ready Commitment and the Canadian Council for the Arts. \nPlease see our Public Art -> OPEN CALL – Re:Imagine | Re:Create page for full details on how and when to apply.\n \nWe’re looking forward to reviewing all potential proposals!\n\nAbout STEPS\n\n\n STEPS Public Art is a Canadian charity and social enterprise. STEPS offers services in public art management\, hoarding exhibits\, cultural planning\, and artist capacity building. Our charitable programs support artists and foster vibrant and inclusive communities across the country. www.stepspublicart.org
URL:https://kiac.ca/calendar-of-events/reimagine-recreate-public-art-open-call/
LOCATION:ODD Gallery
CATEGORIES:Artist in Residence,Community Engagement
ATTACH;FMTTYPE=image/png:https://kiac.ca/wp-content/uploads/2025/02/Open-Call-Web-Posts-1800-x-924-px-1.png
END:VEVENT
BEGIN:VEVENT
DTSTART;TZID=America/Whitehorse:20250222T200000
DTEND;TZID=America/Whitehorse:20250223T010000
DTSTAMP:20260419T110308
CREATED:20250206T212845Z
LAST-MODIFIED:20250207T221239Z
UID:10026373-1740254400-1740272400@kiac.ca
SUMMARY:Danceathon: A KIAC Fundraiser!
DESCRIPTION:DANCEATHON: A KIAC Fundraiser! \nSaturday\, Feb 22nd. Entry by donation\, cash only! \nDoors @ 8pm\, Dancing @ 9pm. \nSo you think you can dance? Do you have what it takes to dance longer than anyone else in town? Grab a partner\, sign up at the door\, and see who has the footwork to be the last team standing! \nParticipate to win some great prizes and remember\, dance moves are not judged\, just movement!  \nNot interested in dancing? Door prizes and raffles are also available! Some of these prizes include: \n\n\n3 Air North travel vouchers\, 2 of $100 value and 1 valued at up to $1300\n\n\nMystery box from Bonanza Market\, $100 value\n\n\n3 RSS Woodshop prizes\n\n\nInterested in volunteering? Please click here! \nIf you require accommodations to participate\, email kiac@kiac.ca or call 867-993-5005
URL:https://kiac.ca/calendar-of-events/danceathon-a-kiac-fundraiser/
LOCATION:Diamond Tooth Gerties\, 4th Ave\, Dawson City\, Canada
CATEGORIES:Fundraiser
ATTACH;FMTTYPE=image/png:https://kiac.ca/wp-content/uploads/2025/02/Black-White-Fashion-Black-Friday-Promotion-Poster-2.png
END:VEVENT
BEGIN:VEVENT
DTSTART;TZID=America/Whitehorse:20250226T180000
DTEND;TZID=America/Whitehorse:20250226T200000
DTSTAMP:20260419T110308
CREATED:20250218T224946Z
LAST-MODIFIED:20250218T225015Z
UID:10026396-1740592800-1740600000@kiac.ca
SUMMARY:Susan Schuppli: SOVA Artist-in-Residence Artist Talk
DESCRIPTION:Dr. Susan Schuppli is a researcher and artist based in the UK. She is Professor and Director of the Centre for Research Architecture\, Goldsmiths University of London and is also an investigative researcher with the human rights agency Forensic Architecture recipient of the 2024 Right Livelihood Award. Susan Schuppli’s fieldwork and documentary film practice is situated at the intersections between environmental struggles\, climate science\, and affected communities with a contemporary focus on the cryosphere and the politics of cold. \n\nCreative projects have been exhibited throughout Europe\, Asia\, Canada\, and the US. She has published widely within the context of media and politics and is author of the book\, Material Witness: Media\, Forensics\, Evidence published by MIT Press in 2020.\n\nSupported by Yukon School of Visual Arts\, the Klondike Institute of Art & Culture (KIAC)\, YukonU\, with funding support from a Social Science and Humanities Research Council of Canada (SSHRC) Connections Grant / Toronto Biennial of Art.\n\nOVERVIEW\n\nDr. Susan Schuppli will be working in collaboration with students from SOVA in Nicole’s 4D Studio class on her project SOUNDING ICE: sensing frozen flows. Via sound and various field recording strategies\, the project explores the signals of climate change found in and around the Yukon and Klondike Rivers—their confluences and histories.\n\nThe practice of ‘sounding’ refers both to the taking of depth measurements in a body of water as well as the sourcing of ‘evidence’ needed in a preliminary step towards taking action. This project and forthcoming website will document our collective efforts to ‘sound out’ local expressions and histories of the environment—Earth evidence—and its urgent calls to action.\n\nMy earlier work as an artist-researcher and writer explored material evidence\, specifically the ways in which non-human witnesses\, enter into trials and tribunals to testify to historical events\, in particular those involving political violence\, ethnic conflict\, and war crimes. This work assumed many different modes of communication from legal analysis and public advocacy to theoretical reflection and creative exploration. Current research and artistic production expands these investigations to examine how environmental systems and the transformations brought about by global warming are generating new forms of evidence; creating\, in effect\, a planetary archive of material witnesses.\n\nhttps://susanschuppli.com
URL:https://kiac.ca/calendar-of-events/susan-schuppli-sova-artist-in-residence-artist-talk/
LOCATION:Yukon School of Visual Arts (SOVA)\, 982 Third Ave\, Dawson City\, Yukon Territory\, Y0B1G0\, Canada
CATEGORIES:Artist in Residence,Community Engagement
ATTACH;FMTTYPE=image/jpeg:https://kiac.ca/wp-content/uploads/2024/10/SusanSchuppli-Iceland-scaled.jpg
END:VEVENT
END:VCALENDAR