BEGIN:VCALENDAR
VERSION:2.0
PRODID:-//KLONDIKE INSTITUTE OF ART &amp; CULTURE - ECPv6.15.18//NONSGML v1.0//EN
CALSCALE:GREGORIAN
METHOD:PUBLISH
X-ORIGINAL-URL:https://kiac.ca
X-WR-CALDESC:Events for KLONDIKE INSTITUTE OF ART &amp; CULTURE
REFRESH-INTERVAL;VALUE=DURATION:PT1H
X-Robots-Tag:noindex
X-PUBLISHED-TTL:PT1H
BEGIN:VTIMEZONE
TZID:America/Whitehorse
BEGIN:STANDARD
TZOFFSETFROM:-0700
TZOFFSETTO:-0700
TZNAME:MST
DTSTART:20240101T000000
END:STANDARD
END:VTIMEZONE
BEGIN:VEVENT
DTSTART;TZID=America/Whitehorse:20250116T130000
DTEND;TZID=America/Whitehorse:20250116T143000
DTSTAMP:20260419T081532
CREATED:20241219T225910Z
LAST-MODIFIED:20241219T230001Z
UID:10025953-1737032400-1737037800@kiac.ca
SUMMARY:Raven Shares the Sun: GRAND UNVEILING!
DESCRIPTION:STEPS + ODD Gallery Present: Raven Shares the Sun \n\nDate: Thursday\, January 16thTime: 1pm – 2:30pm Location: Front Street & Princess Street Tr’ondëk Hwëch’in territory\, Dawson City\, Yukon \nJoin us on Thursday\, January 16th to celebrate the return of the sun with the grand reveal of an artwork by Krystle Silverfox\, embodying the story of how Raven Stole the Sun and shared it with the world. Presented by the Klondike Institute of Art & Culture and STEPS Public Art with the support of the Dänojà Zho Cultural Centre. \nThe event will start at 1pm at Front and Princess with a ceremonial fire\, an opening traditional welcome\, and a tobacco offering. \nAfter the unveiling\, hot drinks and light snacks will be offered at the ODD Gallery during the telling of Raven Steals the Sun as part of Silverfox’s artist talk about her creative practice experience creating the artwork. \nThis installation would not have been possible without KIAC’s partnership with STEPS Public Art\, and support from our sponsors Canada Council\, Robert Service School\, Wildstone Construction\, ISL Engineering\, Dawson City\, Dänojà Zho Cultural Centre\, TD Ready Commitment\, Canada Race Relations Foundation\, and Arctech Circle Welding.   \n            \n                
URL:https://kiac.ca/calendar-of-events/raven-shares-the-sun-grand-unveiling/
LOCATION:ODD Gallery
CATEGORIES:Community Engagement,Exhibitions
ATTACH;FMTTYPE=image/png:https://kiac.ca/wp-content/uploads/2024/12/Website-Event-Post.png
END:VEVENT
BEGIN:VEVENT
DTSTART;TZID=America/Whitehorse:20250123T090000
DTEND;TZID=America/Whitehorse:20250123T170000
DTSTAMP:20260419T081532
CREATED:20241126T181822Z
LAST-MODIFIED:20241212T212244Z
UID:10025946-1737622800-1737651600@kiac.ca
SUMMARY:FOYPAC Photo Sessions
DESCRIPTION:FREE Artwork Photography Sessions \nWhen: Thursday\, Jan 23rd 9am – 5pm \nWhere: ODD Gallery\, 902 2nd Avenue\, Dawson City \n  \nAre you applying to the Yukon Permanent Art Collection? Friends of the Permanent Art Collection (FOYPAC) is working with KIAC to offer free photography sessions by a professional photographer. \nTo learn more about the call for submissions\, visit online at: yukon.ca/yukon-permanent-art-collection \n  \nREGISTRATION REQUIRED \nTo sign up\, please fill out the form below. \nPlease enable JavaScript in your browser to complete this form.Name *FirstLastEmail *		\n			Medium Preferred Timeslot\n			\n		\n		Phone *Medium *Items *Preferred Timeslot *9:00 - 9:45am1:15 - 2:00pm2:00 - 2:45pm2:45 - 3:30pm3:30 - 4:15pm4:15 - 5:00pmPLEASE CHOOSE A FIRST CHOICE TIMESLOTNotes *PLEASE CHOOSE A SECOND CHOICE TIMESLOT & any other notes for the photographer in regards to your artwork(s)Submit
URL:https://kiac.ca/calendar-of-events/foypac-photo-sessions/
LOCATION:Klondike Institute of Art & Culture (KIAC)\, 902 2nd Avenue\, Dawson City
CATEGORIES:Other Events
ATTACH;FMTTYPE=image/jpeg:https://kiac.ca/wp-content/uploads/2024/11/Photo-Sessions_Dawson.jpg
END:VEVENT
END:VCALENDAR