BEGIN:VCALENDAR
VERSION:2.0
PRODID:-//KLONDIKE INSTITUTE OF ART &amp; CULTURE - ECPv6.15.18//NONSGML v1.0//EN
CALSCALE:GREGORIAN
METHOD:PUBLISH
X-WR-CALNAME:KLONDIKE INSTITUTE OF ART &amp; CULTURE
X-ORIGINAL-URL:https://kiac.ca
X-WR-CALDESC:Events for KLONDIKE INSTITUTE OF ART &amp; CULTURE
REFRESH-INTERVAL;VALUE=DURATION:PT1H
X-Robots-Tag:noindex
X-PUBLISHED-TTL:PT1H
BEGIN:VTIMEZONE
TZID:America/Whitehorse
BEGIN:STANDARD
TZOFFSETFROM:-0700
TZOFFSETTO:-0700
TZNAME:MST
DTSTART:20240101T000000
END:STANDARD
END:VTIMEZONE
BEGIN:VEVENT
DTSTART;TZID=America/Whitehorse:20250901T180000
DTEND;TZID=America/Whitehorse:20250901T210000
DTSTAMP:20260420T061050
CREATED:20250325T210625Z
LAST-MODIFIED:20260123T223433Z
UID:10026440-1756749600-1756760400@kiac.ca
SUMMARY:Hand-Building Pottery Drop-In
DESCRIPTION:Handbuilding Pottery Drop-In: Mondays\, 6:30-9pm\nSelf-guided group studio time for those who have some knowledge and experience with pottery. Newcomers are welcome\, though little instruction is provided. A volunteer is available to answer questions. \nClay available for purchase (cash only) at $5/quarter-bag\, $15/half-bag or $30/full bag. \n902 2nd Ave (at Princess St.) Please use the back door for classroom access.
URL:https://kiac.ca/calendar-of-events/hand-building-pottery-drop-in-3-2/2025-09-01/
LOCATION:Klondike Institute of Art & Culture (KIAC)\, 902 2nd Avenue\, Dawson City
CATEGORIES:Workshops & Drop-Ins
ATTACH;FMTTYPE=image/png:https://kiac.ca/wp-content/uploads/2025/03/202526-Pottery-Posters.png
END:VEVENT
BEGIN:VEVENT
DTSTART;TZID=America/Whitehorse:20250908T180000
DTEND;TZID=America/Whitehorse:20250908T210000
DTSTAMP:20260420T061050
CREATED:20250325T210625Z
LAST-MODIFIED:20260123T223433Z
UID:10026441-1757354400-1757365200@kiac.ca
SUMMARY:Hand-Building Pottery Drop-In
DESCRIPTION:Handbuilding Pottery Drop-In: Mondays\, 6:30-9pm\nSelf-guided group studio time for those who have some knowledge and experience with pottery. Newcomers are welcome\, though little instruction is provided. A volunteer is available to answer questions. \nClay available for purchase (cash only) at $5/quarter-bag\, $15/half-bag or $30/full bag. \n902 2nd Ave (at Princess St.) Please use the back door for classroom access.
URL:https://kiac.ca/calendar-of-events/hand-building-pottery-drop-in-3-2/2025-09-08/
LOCATION:Klondike Institute of Art & Culture (KIAC)\, 902 2nd Avenue\, Dawson City
CATEGORIES:Workshops & Drop-Ins
ATTACH;FMTTYPE=image/png:https://kiac.ca/wp-content/uploads/2025/03/202526-Pottery-Posters.png
END:VEVENT
BEGIN:VEVENT
DTSTART;TZID=America/Whitehorse:20250915T180000
DTEND;TZID=America/Whitehorse:20250915T210000
DTSTAMP:20260420T061050
CREATED:20250325T210625Z
LAST-MODIFIED:20260123T223433Z
UID:10026442-1757959200-1757970000@kiac.ca
SUMMARY:Hand-Building Pottery Drop-In
DESCRIPTION:Handbuilding Pottery Drop-In: Mondays\, 6:30-9pm\nSelf-guided group studio time for those who have some knowledge and experience with pottery. Newcomers are welcome\, though little instruction is provided. A volunteer is available to answer questions. \nClay available for purchase (cash only) at $5/quarter-bag\, $15/half-bag or $30/full bag. \n902 2nd Ave (at Princess St.) Please use the back door for classroom access.
URL:https://kiac.ca/calendar-of-events/hand-building-pottery-drop-in-3-2/2025-09-15/
LOCATION:Klondike Institute of Art & Culture (KIAC)\, 902 2nd Avenue\, Dawson City
CATEGORIES:Workshops & Drop-Ins
ATTACH;FMTTYPE=image/png:https://kiac.ca/wp-content/uploads/2025/03/202526-Pottery-Posters.png
END:VEVENT
BEGIN:VEVENT
DTSTART;TZID=America/Whitehorse:20250916T180000
DTEND;TZID=America/Whitehorse:20250916T200000
DTSTAMP:20260420T061050
CREATED:20250813T181256Z
LAST-MODIFIED:20250819T232501Z
UID:10026787-1758045600-1758052800@kiac.ca
SUMMARY:Creative Cash Flow: CRA Tips for Artists & Small Biz
DESCRIPTION:Free Tax Workshop for Creatives\nDate: Tuesday\, September 16\, 2025Time: 6:00 PM – 8:00 PMLocation: Klondike Institute of Art & Culture (KIAC)Contact: gallery@kiac.caCost: Free! \nRunning a creative practice means you’re also running a business—even if it doesn’t always feel that way. Whether you’re a full-time artist\, part-time maker\, or freelance dreamer\, understanding how to manage your money and file your taxes can save you serious time\, money\, and stress. \nJoin us for a free\, artist-friendly workshop with a CRA Liaison Officer\, who will walk you through how to: \n\nLearn how to run your creative hustle like a business\nFind out what the CRA actually wants from you\nUnderstand what you can (and can’t) write off\nPrepare for tax time with confidence\nAsk a real CRA officer your questions—no judgment!\n\nThis session is casual\, welcoming\, and jargon-free. Bring your questions—no judgment! \nWhether you’re just starting out or have been hustling for years\, this workshop will help you run your creative practice like a pro. \nCRA Liaison Service Workshop RegistrationPlease enable JavaScript in your browser to complete this form.Name *FirstLastEmail *Phone Number *Pronouns *She / HerHe / HimThey / ThemOtherComment or MessageSubmit
URL:https://kiac.ca/calendar-of-events/creative-cash-flow-cra-tips-for-artists-small-biz/
LOCATION:ODD Gallery
CATEGORIES:Community Engagement,Workshops & Drop-Ins
ATTACH;FMTTYPE=image/png:https://kiac.ca/wp-content/uploads/2024/08/Screenshot-2024-08-02-at-3.31.12 PM.png
END:VEVENT
BEGIN:VEVENT
DTSTART;TZID=America/Whitehorse:20250922T180000
DTEND;TZID=America/Whitehorse:20250922T210000
DTSTAMP:20260420T061050
CREATED:20250325T210625Z
LAST-MODIFIED:20260123T223433Z
UID:10026443-1758564000-1758574800@kiac.ca
SUMMARY:Hand-Building Pottery Drop-In
DESCRIPTION:Handbuilding Pottery Drop-In: Mondays\, 6:30-9pm\nSelf-guided group studio time for those who have some knowledge and experience with pottery. Newcomers are welcome\, though little instruction is provided. A volunteer is available to answer questions. \nClay available for purchase (cash only) at $5/quarter-bag\, $15/half-bag or $30/full bag. \n902 2nd Ave (at Princess St.) Please use the back door for classroom access.
URL:https://kiac.ca/calendar-of-events/hand-building-pottery-drop-in-3-2/2025-09-22/
LOCATION:Klondike Institute of Art & Culture (KIAC)\, 902 2nd Avenue\, Dawson City
CATEGORIES:Workshops & Drop-Ins
ATTACH;FMTTYPE=image/png:https://kiac.ca/wp-content/uploads/2025/03/202526-Pottery-Posters.png
END:VEVENT
BEGIN:VEVENT
DTSTART;TZID=America/Whitehorse:20250929T180000
DTEND;TZID=America/Whitehorse:20250929T210000
DTSTAMP:20260420T061050
CREATED:20250325T210625Z
LAST-MODIFIED:20260123T223433Z
UID:10026444-1759168800-1759179600@kiac.ca
SUMMARY:Hand-Building Pottery Drop-In
DESCRIPTION:Handbuilding Pottery Drop-In: Mondays\, 6:30-9pm\nSelf-guided group studio time for those who have some knowledge and experience with pottery. Newcomers are welcome\, though little instruction is provided. A volunteer is available to answer questions. \nClay available for purchase (cash only) at $5/quarter-bag\, $15/half-bag or $30/full bag. \n902 2nd Ave (at Princess St.) Please use the back door for classroom access.
URL:https://kiac.ca/calendar-of-events/hand-building-pottery-drop-in-3-2/2025-09-29/
LOCATION:Klondike Institute of Art & Culture (KIAC)\, 902 2nd Avenue\, Dawson City
CATEGORIES:Workshops & Drop-Ins
ATTACH;FMTTYPE=image/png:https://kiac.ca/wp-content/uploads/2025/03/202526-Pottery-Posters.png
END:VEVENT
END:VCALENDAR