BEGIN:VCALENDAR
VERSION:2.0
PRODID:-//KLONDIKE INSTITUTE OF ART &amp; CULTURE - ECPv6.15.18//NONSGML v1.0//EN
CALSCALE:GREGORIAN
METHOD:PUBLISH
X-ORIGINAL-URL:https://kiac.ca
X-WR-CALDESC:Events for KLONDIKE INSTITUTE OF ART &amp; CULTURE
REFRESH-INTERVAL;VALUE=DURATION:PT1H
X-Robots-Tag:noindex
X-PUBLISHED-TTL:PT1H
BEGIN:VTIMEZONE
TZID:America/Whitehorse
BEGIN:STANDARD
TZOFFSETFROM:-0700
TZOFFSETTO:-0700
TZNAME:MST
DTSTART:20240101T000000
END:STANDARD
END:VTIMEZONE
BEGIN:VEVENT
DTSTART;VALUE=DATE:20250213
DTEND;VALUE=DATE:20250414
DTSTAMP:20260420T164249
CREATED:20250219T174500Z
LAST-MODIFIED:20250305T183627Z
UID:10026397-1739412000-1744509599@kiac.ca
SUMMARY:TROPICANA Exhibition - FREE Private Tours!
DESCRIPTION:JUAN ORTIZ-APUY  |  TROPICANA February 13 – April 12\, 2025 ODD Gallery\, Dënäkär Zho |  KIAC Tr’ondëk Hwëch’in territory\, Dawson City\, Yukon \n\n\n\n\n\nTROPICANA\n\n\n\nA GENUINE FORAY INTO THE WORLD OF OBJECTS\, THE YOUTH EXHIBITION TROPICANA SEEKS TO EXAMINE THE WAY WE CONSUME TODAY THE BETTER TO UNDERSTAND ITS FUTURE IMPACTS. \n\n\n\nWhen confronting the environmental crisis\, in which unbridled production of goods is threatening the diversity of the natural world\, it’s essential that we take an interest in how things are displayed\, commercialized and consumed\, whether in brick-and-mortar store windows or online. This youth exhibition\, specially designed for kids and teenagers aged 6 to 14\, casts a critical eye on modern consumer society and advertising aimed at children\, which often features animals\, colours\, sounds and shapes designed to appeal to them. For the occasion\, Montreal-based Costa Rican artist Juan Ortiz-Apuy has created a visual and sound environment allowing visitors to explore the language of advertising and its ability to act on us\, in sometimes unexpected ways. The artist based his research on new marketing strategies that have emerged in the social media era\, i.e.\, the phenomenon of “unboxing” and ASMR (Autonomous Sensory Meridian Response) videos. Besides a guided tour\, children can take part in a workshop designed to awaken their senses\, creativity and critical thinking. Observation games to be completed with family members round out the experience. \nTo learn more about the artist – GO HERE \n  \n\n\n\nFREE Private Tour Booking\n\n\n\nThe ODD Gallery is excited to offer pre-scheduled 45-minute or 90-minute tours of TROPICANA to any interested schools\, daycares\, youth centres\, elders centres\, families or professional organizations interested in directed education on how stealth-marketing incentives all of us to buy. Please use the form below to book your private tour today! \nHours of availability: Tuesday – Friday\, start at 9am – ending at 6pm \nTours are unavailable from March 7 – 17th\, but will restart March 18th \nContact Jessica via email gallery@kiac.ca or 993-5005 if you have any questions. \nODD Gallery Tropicana Educational ToursPlease enable JavaScript in your browser to complete this form.Name *FirstLast		\n			or Name Message\n			\n		\n		Phone *Email *Date / Time *DateTimePlease let us know what day and time you'd like your 90 minute tour to begin so we can ensure we book it into our schedule.\n\nTours can be booked from 10am - 6pm Monday - Friday. \n\nThe final day to book a tour is April 11th\, 2025.Age Range of Visitors (choose all that apply in your group) *0 - 5 Years Old6 - 8 Years Old9 - 11 Years Old12 - 14 Years Old15 - 18 Years Old18+65+Informing us of the ages of attendees helps us better prepare materials for your visit.Comment or MessageSubmit   \n\n\n\n\n\nCrédit pour la tournée de Juan : \n\n\n\nLa circulation de Tropicana bénéficie du soutien financier du Conseil des arts du Canada et du Conseil des arts et des lettres du Québec. Cette exposition a été produite en 2020 par VOX\, centre de l’image contemporaine grâce au soutien financier du Conseil des arts et des lettres du Québec. \n\n\n\nCredits for Juan tour: \n\n\n\nThe Tropicana’s tour benefits from the financial support of the Canada Council for the Arts and the Conseil des arts et des lettres du Québec. This exhibition was produced in 2020 by VOX\, centre de l’image contemporaine with financial support from the Conseil des arts et des lettres du Québec.   \n\n\n\n\n\n.  . 
URL:https://kiac.ca/calendar-of-events/juan-ortiz-apuy-tropicana/
LOCATION:Klondike Institute of Art & Culture (KIAC)\, 902 2nd Avenue\, Dawson City
CATEGORIES:Community Engagement,Exhibitions,Kids & Youth,Workshops & Drop-Ins
ATTACH;FMTTYPE=image/png:https://kiac.ca/wp-content/uploads/2025/02/Private-Tour-Booking.png
END:VEVENT
BEGIN:VEVENT
DTSTART;TZID=America/Whitehorse:20250303T180000
DTEND;TZID=America/Whitehorse:20250303T210000
DTSTAMP:20260420T164249
CREATED:20240104T012140Z
LAST-MODIFIED:20241220T180252Z
UID:10025631-1741024800-1741035600@kiac.ca
SUMMARY:Hand-Building Pottery Drop-In
DESCRIPTION:Handbuilding Pottery Drop-In: Mondays\, 6:30-9pm\nSelf-guided group studio time for those who have some knowledge and experience with pottery. Newcomers are welcome\, though little instruction is provided. A volunteer is available to answer questions. \nClay available for purchase (cash only) at $5/quarter-bag\, $15/half-bag or $30/full bag. \n902 2nd Ave (at Princess St.) Please use the back door for classroom access.
URL:https://kiac.ca/calendar-of-events/hand-building-pottery-drop-in-3/2025-03-03/
LOCATION:Klondike Institute of Art & Culture (KIAC)\, 902 2nd Avenue\, Dawson City
CATEGORIES:Workshops & Drop-Ins
ATTACH;FMTTYPE=image/png:https://kiac.ca/wp-content/uploads/2024/01/3.png
END:VEVENT
BEGIN:VEVENT
DTSTART;TZID=America/Whitehorse:20250304T180000
DTEND;TZID=America/Whitehorse:20250304T200000
DTSTAMP:20260420T164249
CREATED:20241107T180333Z
LAST-MODIFIED:20250207T215233Z
UID:10025544-1741111200-1741118400@kiac.ca
SUMMARY:Hoht’rey ëde’ą Concert Band Drop-In
DESCRIPTION:Tuesdays\, 6 – 8 p.m\, KIAC Ballroom\n*some cancellations may occur\, please check out the weekly newsletter for updates. \nConcert Band drop-in will be re-located on Tuesdays from Feb. 11 to March 4\, and April 8-15 to RSS. \nFor rehearsal details on those nights\, please contact Teresa at teresa.conkin@gmail.com \n  \nThis weekly two-hour conducted music session is geared towards those who can (or used to) play a woodwind or brass instrument at a low intermediate level and higher\, i.e at least able to play a scale. \nWe will be practicing several concert pieces each week. Those who haven’t played their instrument in years\, or decades even\, but were experienced in the past are more than welcome!\nPlease contact Teresa Conkin  if you are unsure about your level of experience and if this program is right for you: teresa.conkin@gmail.com \nInstruments are not provided but may be available to rent.\nAges 16 & up. \n 
URL:https://kiac.ca/calendar-of-events/hohtrey-edea-concert-band-drop-in/2025-03-04/
LOCATION:Klondike Institute of Art & Culture (KIAC)\, 902 2nd Avenue\, Dawson City
CATEGORIES:Workshops & Drop-Ins
ATTACH;FMTTYPE=image/jpeg:https://kiac.ca/wp-content/uploads/2024/11/concert-band.jpg
END:VEVENT
BEGIN:VEVENT
DTSTART;TZID=America/Whitehorse:20250310T180000
DTEND;TZID=America/Whitehorse:20250310T210000
DTSTAMP:20260420T164249
CREATED:20240104T012140Z
LAST-MODIFIED:20241220T180252Z
UID:10025632-1741629600-1741640400@kiac.ca
SUMMARY:Hand-Building Pottery Drop-In
DESCRIPTION:Handbuilding Pottery Drop-In: Mondays\, 6:30-9pm\nSelf-guided group studio time for those who have some knowledge and experience with pottery. Newcomers are welcome\, though little instruction is provided. A volunteer is available to answer questions. \nClay available for purchase (cash only) at $5/quarter-bag\, $15/half-bag or $30/full bag. \n902 2nd Ave (at Princess St.) Please use the back door for classroom access.
URL:https://kiac.ca/calendar-of-events/hand-building-pottery-drop-in-3/2025-03-10/
LOCATION:Klondike Institute of Art & Culture (KIAC)\, 902 2nd Avenue\, Dawson City
CATEGORIES:Workshops & Drop-Ins
ATTACH;FMTTYPE=image/png:https://kiac.ca/wp-content/uploads/2024/01/3.png
END:VEVENT
BEGIN:VEVENT
DTSTART;TZID=America/Whitehorse:20250311T180000
DTEND;TZID=America/Whitehorse:20250311T200000
DTSTAMP:20260420T164249
CREATED:20241107T180333Z
LAST-MODIFIED:20250207T215233Z
UID:10025545-1741716000-1741723200@kiac.ca
SUMMARY:Hoht’rey ëde’ą Concert Band Drop-In
DESCRIPTION:Tuesdays\, 6 – 8 p.m\, KIAC Ballroom\n*some cancellations may occur\, please check out the weekly newsletter for updates. \nConcert Band drop-in will be re-located on Tuesdays from Feb. 11 to March 4\, and April 8-15 to RSS. \nFor rehearsal details on those nights\, please contact Teresa at teresa.conkin@gmail.com \n  \nThis weekly two-hour conducted music session is geared towards those who can (or used to) play a woodwind or brass instrument at a low intermediate level and higher\, i.e at least able to play a scale. \nWe will be practicing several concert pieces each week. Those who haven’t played their instrument in years\, or decades even\, but were experienced in the past are more than welcome!\nPlease contact Teresa Conkin  if you are unsure about your level of experience and if this program is right for you: teresa.conkin@gmail.com \nInstruments are not provided but may be available to rent.\nAges 16 & up. \n 
URL:https://kiac.ca/calendar-of-events/hohtrey-edea-concert-band-drop-in/2025-03-11/
LOCATION:Klondike Institute of Art & Culture (KIAC)\, 902 2nd Avenue\, Dawson City
CATEGORIES:Workshops & Drop-Ins
ATTACH;FMTTYPE=image/jpeg:https://kiac.ca/wp-content/uploads/2024/11/concert-band.jpg
END:VEVENT
BEGIN:VEVENT
DTSTART;TZID=America/Whitehorse:20250317T180000
DTEND;TZID=America/Whitehorse:20250317T210000
DTSTAMP:20260420T164249
CREATED:20240104T012140Z
LAST-MODIFIED:20241220T180252Z
UID:10025633-1742234400-1742245200@kiac.ca
SUMMARY:Hand-Building Pottery Drop-In
DESCRIPTION:Handbuilding Pottery Drop-In: Mondays\, 6:30-9pm\nSelf-guided group studio time for those who have some knowledge and experience with pottery. Newcomers are welcome\, though little instruction is provided. A volunteer is available to answer questions. \nClay available for purchase (cash only) at $5/quarter-bag\, $15/half-bag or $30/full bag. \n902 2nd Ave (at Princess St.) Please use the back door for classroom access.
URL:https://kiac.ca/calendar-of-events/hand-building-pottery-drop-in-3/2025-03-17/
LOCATION:Klondike Institute of Art & Culture (KIAC)\, 902 2nd Avenue\, Dawson City
CATEGORIES:Workshops & Drop-Ins
ATTACH;FMTTYPE=image/png:https://kiac.ca/wp-content/uploads/2024/01/3.png
END:VEVENT
BEGIN:VEVENT
DTSTART;TZID=America/Whitehorse:20250318T180000
DTEND;TZID=America/Whitehorse:20250318T200000
DTSTAMP:20260420T164249
CREATED:20241107T180333Z
LAST-MODIFIED:20250207T215233Z
UID:10025546-1742320800-1742328000@kiac.ca
SUMMARY:Hoht’rey ëde’ą Concert Band Drop-In
DESCRIPTION:Tuesdays\, 6 – 8 p.m\, KIAC Ballroom\n*some cancellations may occur\, please check out the weekly newsletter for updates. \nConcert Band drop-in will be re-located on Tuesdays from Feb. 11 to March 4\, and April 8-15 to RSS. \nFor rehearsal details on those nights\, please contact Teresa at teresa.conkin@gmail.com \n  \nThis weekly two-hour conducted music session is geared towards those who can (or used to) play a woodwind or brass instrument at a low intermediate level and higher\, i.e at least able to play a scale. \nWe will be practicing several concert pieces each week. Those who haven’t played their instrument in years\, or decades even\, but were experienced in the past are more than welcome!\nPlease contact Teresa Conkin  if you are unsure about your level of experience and if this program is right for you: teresa.conkin@gmail.com \nInstruments are not provided but may be available to rent.\nAges 16 & up. \n 
URL:https://kiac.ca/calendar-of-events/hohtrey-edea-concert-band-drop-in/2025-03-18/
LOCATION:Klondike Institute of Art & Culture (KIAC)\, 902 2nd Avenue\, Dawson City
CATEGORIES:Workshops & Drop-Ins
ATTACH;FMTTYPE=image/jpeg:https://kiac.ca/wp-content/uploads/2024/11/concert-band.jpg
END:VEVENT
BEGIN:VEVENT
DTSTART;TZID=America/Whitehorse:20250324T180000
DTEND;TZID=America/Whitehorse:20250324T210000
DTSTAMP:20260420T164249
CREATED:20250325T210625Z
LAST-MODIFIED:20260123T223433Z
UID:10025634-1742839200-1742850000@kiac.ca
SUMMARY:Hand-Building Pottery Drop-In
DESCRIPTION:Handbuilding Pottery Drop-In: Mondays\, 6:30-9pm\nSelf-guided group studio time for those who have some knowledge and experience with pottery. Newcomers are welcome\, though little instruction is provided. A volunteer is available to answer questions. \nClay available for purchase (cash only) at $5/quarter-bag\, $15/half-bag or $30/full bag. \n902 2nd Ave (at Princess St.) Please use the back door for classroom access.
URL:https://kiac.ca/calendar-of-events/hand-building-pottery-drop-in-3-2/2025-03-24/
LOCATION:Klondike Institute of Art & Culture (KIAC)\, 902 2nd Avenue\, Dawson City
CATEGORIES:Workshops & Drop-Ins
ATTACH;FMTTYPE=image/png:https://kiac.ca/wp-content/uploads/2025/03/202526-Pottery-Posters.png
END:VEVENT
BEGIN:VEVENT
DTSTART;TZID=America/Whitehorse:20250325T180000
DTEND;TZID=America/Whitehorse:20250325T200000
DTSTAMP:20260420T164249
CREATED:20241107T180333Z
LAST-MODIFIED:20250207T215233Z
UID:10025547-1742925600-1742932800@kiac.ca
SUMMARY:Hoht’rey ëde’ą Concert Band Drop-In
DESCRIPTION:Tuesdays\, 6 – 8 p.m\, KIAC Ballroom\n*some cancellations may occur\, please check out the weekly newsletter for updates. \nConcert Band drop-in will be re-located on Tuesdays from Feb. 11 to March 4\, and April 8-15 to RSS. \nFor rehearsal details on those nights\, please contact Teresa at teresa.conkin@gmail.com \n  \nThis weekly two-hour conducted music session is geared towards those who can (or used to) play a woodwind or brass instrument at a low intermediate level and higher\, i.e at least able to play a scale. \nWe will be practicing several concert pieces each week. Those who haven’t played their instrument in years\, or decades even\, but were experienced in the past are more than welcome!\nPlease contact Teresa Conkin  if you are unsure about your level of experience and if this program is right for you: teresa.conkin@gmail.com \nInstruments are not provided but may be available to rent.\nAges 16 & up. \n 
URL:https://kiac.ca/calendar-of-events/hohtrey-edea-concert-band-drop-in/2025-03-25/
LOCATION:Klondike Institute of Art & Culture (KIAC)\, 902 2nd Avenue\, Dawson City
CATEGORIES:Workshops & Drop-Ins
ATTACH;FMTTYPE=image/jpeg:https://kiac.ca/wp-content/uploads/2024/11/concert-band.jpg
END:VEVENT
BEGIN:VEVENT
DTSTART;TZID=America/Whitehorse:20250331T180000
DTEND;TZID=America/Whitehorse:20250331T210000
DTSTAMP:20260420T164249
CREATED:20250325T210625Z
LAST-MODIFIED:20260123T223433Z
UID:10026418-1743444000-1743454800@kiac.ca
SUMMARY:Hand-Building Pottery Drop-In
DESCRIPTION:Handbuilding Pottery Drop-In: Mondays\, 6:30-9pm\nSelf-guided group studio time for those who have some knowledge and experience with pottery. Newcomers are welcome\, though little instruction is provided. A volunteer is available to answer questions. \nClay available for purchase (cash only) at $5/quarter-bag\, $15/half-bag or $30/full bag. \n902 2nd Ave (at Princess St.) Please use the back door for classroom access.
URL:https://kiac.ca/calendar-of-events/hand-building-pottery-drop-in-3-2/2025-03-31/
LOCATION:Klondike Institute of Art & Culture (KIAC)\, 902 2nd Avenue\, Dawson City
CATEGORIES:Workshops & Drop-Ins
ATTACH;FMTTYPE=image/png:https://kiac.ca/wp-content/uploads/2025/03/202526-Pottery-Posters.png
END:VEVENT
END:VCALENDAR