BEGIN:VCALENDAR
VERSION:2.0
PRODID:-//KLONDIKE INSTITUTE OF ART &amp; CULTURE - ECPv6.15.18//NONSGML v1.0//EN
CALSCALE:GREGORIAN
METHOD:PUBLISH
X-WR-CALNAME:KLONDIKE INSTITUTE OF ART &amp; CULTURE
X-ORIGINAL-URL:https://kiac.ca
X-WR-CALDESC:Events for KLONDIKE INSTITUTE OF ART &amp; CULTURE
REFRESH-INTERVAL;VALUE=DURATION:PT1H
X-Robots-Tag:noindex
X-PUBLISHED-TTL:PT1H
BEGIN:VTIMEZONE
TZID:America/Whitehorse
BEGIN:STANDARD
TZOFFSETFROM:-0700
TZOFFSETTO:-0700
TZNAME:MST
DTSTART:20240101T000000
END:STANDARD
END:VTIMEZONE
BEGIN:VEVENT
DTSTART;TZID=America/Whitehorse:20250925T173000
DTEND;TZID=America/Whitehorse:20250925T190000
DTSTAMP:20260419T093906
CREATED:20250923T204954Z
LAST-MODIFIED:20250923T204954Z
UID:10026892-1758821400-1758826800@kiac.ca
SUMMARY:KIAC Artist Residency Committee Meetup
DESCRIPTION:We are re-establishing the KIAC Artist Residency Committee!\n\n\n\nJoin us for a snack at the KIAC Classroom Thursday\, Sept 25 at 5:30pm to discuss becoming a KIAC Artist Residency Committee member.\n\n\n\nThe KIAC Artist Residency Committee will work directly with KIAC’s Artist Engagement Manager to support KIAC’s artist residency operations. At this meet-up\, we will talk about ways to get involved with the residency program! We’ll present the upcoming residency schedule\, explain how residency selections work\, and go over opportunities to welcome and connect with artists from all over the world!\n\n\n\nQuestions? Contact: kiac@kiac.ca
URL:https://kiac.ca/calendar-of-events/kiac-artist-residency-committee-meetup/
LOCATION:Klondike Institute of Art & Culture (KIAC)\, 902 2nd Avenue\, Dawson City
CATEGORIES:Artist in Residence
ATTACH;FMTTYPE=image/png:https://kiac.ca/wp-content/uploads/2025/09/support-Artist-residency-operations.-Discover-ways-to-get-involved-learn-how-selections-work-and-more.-snacks-and-pizza-provided.png
END:VEVENT
BEGIN:VEVENT
DTSTART;TZID=America/Whitehorse:20250929T193000
DTEND;TZID=America/Whitehorse:20250929T210000
DTSTAMP:20260419T093906
CREATED:20250924T234136Z
LAST-MODIFIED:20250926T034300Z
UID:10026893-1759174200-1759179600@kiac.ca
SUMMARY:Beh Movāzāt / به موازات (In Parallel) FILM SCREENING AND Q&A - with Kiarash Dadgar
DESCRIPTION:Beh Movāzāt / به موازات (In Parallel)\nFILM SCREENING AND Q&A – with Kiarash Dadgar \nMonday\, September 29th – Doors 7pm\, Screening 7:30pm\n@ KIAC Dënäkär Zho Ballroom \nJoin filmmaker\, writer\, and KIAC Artist-in-Residence Kiarash Dadgar for a unique opportunity to view a selection of his works and other works by contemporary Iranian creators\, followed by a Q&A. \nKiarash Dadgar\nEsfahan\, Iran/Tkaronto (Toronto)\nKIAC ARTIST-IN-RESIDENCE: September 9th – Oct 6th\, 2025\n \nKiarash Dadgar is an award-winning filmmaker\, theatre artist\, actor\, and producer originally from Iran\, now based in Toronto\, Canada. Holding an MA in Dramatic Literature from Soore Art University in Tehran and currently pursuing an MFA in Film at York University\, Kiarash’s work explores themes of cultural conflict\, isolation\, and personal autonomy. His acclaimed short film The Steak has been featured at over 220 festivals worldwide\, earning numerous awards including the AGBO Fellowship Award with mentorship by the Russo Brothers. His practice spans directing\, producing\, acting\, and scriptwriting\, blending dark humor and social commentary to challenge audiences. \nAbout the Film Screening: \nCuratorial Note:\nWhen people speak of Iranian cinema\, they often expect stories of hardship\, oppression\, or political unrest. But this curated program moves in parallel to those expectations. These five films — lyrical\, surreal\, uncanny\, and emotionally precise — challenge the stereotypical narratives imposed on Iranian filmmakers. From mythic returns and fractured memories to dream factories and quiet rebellions\, each work reveals a world adjacent to what is assumed. In Parallel is not an escape from Iranian identity\, but a reimagining of its cinematic language — a space where fantasy\, abstraction\, and absurdity are not deviations\, but declarations. \nWhite Winged Horse\nDirector & Writer: Mahyar Mandegar\nA man returns to his war-torn hometown\, searching for his childhood sweetheart who had promised him eternal love — if he were to return as a white-winged horse. \nFragments of a Revolution\nDirector & Writer: Sahand Sarhaddi\nAn experimental film about narrations of two journal photos from Iran’s revolution in 1979. \nFalling Up\nDirector & Writer: Maryam Bakhtiari\nOne night\, a man’s dream doesn’t proceed as he ordered. The company that produces dreams tells him the fault occurred due to a similarity with a young girl’s dream. They must spend a day in the company to resolve it. \nOrthodontics\nDirector & Writer: Mohammadreza Mayghani\nAmitis is a teenage girl under pressure from orthodontic treatment. But suddenly\, she does a strange thing with her friend Sara. \nThe Steak\nDirector & Writer: Kiarash Dadgar\nA birthday party preparation is thrown into chaos by an awful event. \nStay after the screening for a brief Q&A with Kiarash.\nThis screening is FREE and presented as part of the Artist in Residence program hosted by the Klondike Institute of Art & Culture (KIAC) – see you there!
URL:https://kiac.ca/calendar-of-events/beh-movazat-%d8%a8%d9%87-%d9%85%d9%88%d8%a7%d8%b2%d8%a7%d8%aa-in-parallel-film-screening-and-qa-with-kiarash-dadgar/
LOCATION:Klondike Institute of Art & Culture (KIAC)\, 902 2nd Avenue\, Dawson City
CATEGORIES:Artist in Residence,Film
ATTACH;FMTTYPE=image/png:https://kiac.ca/wp-content/uploads/2025/09/AiR-Artist-Talk-Web-2.png
END:VEVENT
END:VCALENDAR