BEGIN:VCALENDAR
VERSION:2.0
PRODID:-//KLONDIKE INSTITUTE OF ART &amp; CULTURE - ECPv6.15.18//NONSGML v1.0//EN
CALSCALE:GREGORIAN
METHOD:PUBLISH
X-WR-CALNAME:KLONDIKE INSTITUTE OF ART &amp; CULTURE
X-ORIGINAL-URL:https://kiac.ca
X-WR-CALDESC:Events for KLONDIKE INSTITUTE OF ART &amp; CULTURE
REFRESH-INTERVAL;VALUE=DURATION:PT1H
X-Robots-Tag:noindex
X-PUBLISHED-TTL:PT1H
BEGIN:VTIMEZONE
TZID:America/Whitehorse
BEGIN:STANDARD
TZOFFSETFROM:-0700
TZOFFSETTO:-0700
TZNAME:MST
DTSTART:20240101T000000
END:STANDARD
END:VTIMEZONE
BEGIN:VEVENT
DTSTART;TZID=America/Whitehorse:20250822T080000
DTEND;TZID=America/Whitehorse:20250822T170000
DTSTAMP:20260419T122818
CREATED:20250822T230334Z
LAST-MODIFIED:20250822T230334Z
UID:10026822-1755849600-1755882000@kiac.ca
SUMMARY:The General Store - Open Studio & Artist Talk at Ruby's Place - Nahanni McKay & Ben Evely
DESCRIPTION:You are invited to an open studio of The General Store! \nMacaulay House Artists in Residence Ben Evely and Nahanni McKay invite you to their Open Studio and Artist Talk at Ruby’s Place\, a Parks Canada KNHS building\, right next to KIAC! \n📅When: Friday\, August 29th\, 6 to 8 pm (Artist Talk at 7pm) \n📍Where: Ruby’s Place\, 914 2nd Avenue \nAll welcome\, refreshments served! \nShowcasing a collection of new works and work in progress\, The General Store is a collaborative project by current KIAC artists in residence Nahanni Mckay and Ben Evely. Inspired by growing up in Banff\, Alberta (on Treaty 7 Territory)\, the duo’s work examines the commodification of nature\, and the way places are shaped by tourism and recreation. Many small towns have shops selling a broad variety of goods\, often a general store. The open studio includes artworks that span various mediums and concepts related to their shared experiences. \nThe pair are drawn to the historical impacts of colonialism and the gold rush in Dawson City and current initiatives for reconciliation with First Nations\, and instilling respect for the land. The seasonal tourism economy\, and vibrant art community make Dawson an ideal setting to further expand on their ideas. \nBig thanks to Parks Canada KHNS and The Bunkhouse for supporting this residency project!
URL:https://kiac.ca/calendar-of-events/the-general-store-open-studio-artist-talk-at-rubys-place-nahanni-mckay-ben-evely/
LOCATION:Ruby’s Place\, 914 2nd avenue\, Dawson City\, Yukon\, Y0B1G0\, Canada
CATEGORIES:Artist in Residence
ATTACH;FMTTYPE=image/png:https://kiac.ca/wp-content/uploads/2025/08/1.png
END:VEVENT
END:VCALENDAR