BEGIN:VCALENDAR
VERSION:2.0
PRODID:-//KLONDIKE INSTITUTE OF ART &amp; CULTURE - ECPv6.15.18//NONSGML v1.0//EN
CALSCALE:GREGORIAN
METHOD:PUBLISH
X-WR-CALNAME:KLONDIKE INSTITUTE OF ART &amp; CULTURE
X-ORIGINAL-URL:https://kiac.ca
X-WR-CALDESC:Events for KLONDIKE INSTITUTE OF ART &amp; CULTURE
REFRESH-INTERVAL;VALUE=DURATION:PT1H
X-Robots-Tag:noindex
X-PUBLISHED-TTL:PT1H
BEGIN:VTIMEZONE
TZID:America/Whitehorse
BEGIN:STANDARD
TZOFFSETFROM:-0700
TZOFFSETTO:-0700
TZNAME:MST
DTSTART:20230101T000000
END:STANDARD
END:VTIMEZONE
BEGIN:VEVENT
DTSTART;TZID=America/Whitehorse:20240830T160000
DTEND;TZID=America/Whitehorse:20240830T190000
DTSTAMP:20260420T151257
CREATED:20240820T205135Z
LAST-MODIFIED:20240820T231732Z
UID:10025401-1725033600-1725044400@kiac.ca
SUMMARY:Fireweed Layne Gallery
DESCRIPTION:Join us at the Dänojà Zho Cultural Centre for a Gallery event featuring work by this month’s DZCC Artist in Residence\, Shara Layne Kearney. \nKearney is Mi’k maq artist who was born and raised in the Yukon. She uses her art to reconnect with the land and her heritage and sees art making as a way to balance between living in both an indigenous and western world. She’s passionate about helping in the resurgence of traditional practices and teachings through many art forms. \nhttps://kiac.ca/artist-in-residence-program/current-residents/ \nThis is a free\, alcohol free event\, open to everyone. \nDate: Friday Aug 30 \nTime: 4:00-7:00 pm \nLocation: Dänojà Zho Cultural Centre (1131 Front St.)
URL:https://kiac.ca/calendar-of-events/fireweed-layne-gallery/
LOCATION:Dänojà Zho Cultural Centre
CATEGORIES:Artist in Residence
ATTACH;FMTTYPE=image/jpeg:https://kiac.ca/wp-content/uploads/2024/08/Shara-Gallery-event.jpeg
END:VEVENT
END:VCALENDAR